BEGIN:VCALENDAR
VERSION:2.0
PRODID:-//Senioren Platform Apeldoorn - ECPv6.2.6//NONSGML v1.0//EN
CALSCALE:GREGORIAN
METHOD:PUBLISH
X-ORIGINAL-URL:https://www.seniorenplatformapeldoorn.nl
X-WR-CALDESC:Evenementen voor Senioren Platform Apeldoorn
REFRESH-INTERVAL;VALUE=DURATION:PT1H
X-Robots-Tag:noindex
X-PUBLISHED-TTL:PT1H
BEGIN:VTIMEZONE
TZID:Europe/Amsterdam
BEGIN:DAYLIGHT
TZOFFSETFROM:+0100
TZOFFSETTO:+0200
TZNAME:CEST
DTSTART:20230326T010000
END:DAYLIGHT
BEGIN:STANDARD
TZOFFSETFROM:+0200
TZOFFSETTO:+0100
TZNAME:CET
DTSTART:20231029T010000
END:STANDARD
END:VTIMEZONE
BEGIN:VEVENT
DTSTART;TZID=Europe/Amsterdam:20231011T153000
DTEND;TZID=Europe/Amsterdam:20231011T170000
DTSTAMP:20260420T170402
CREATED:20231002T101837Z
LAST-MODIFIED:20231002T112236Z
UID:5273-1697038200-1697043600@www.seniorenplatformapeldoorn.nl
SUMMARY:Symposium met Sander de Hosson - Internationale Dag van de Palliatieve Zorg
DESCRIPTION:Christine van Dijk\, Arjan Post en Willeke van Kralingen (hospice de Spreng) organiseren van 15.30 – 17 uur het symposium Palliatieve zorg: “Het gaat er vooral om dat je er bent” in het Zonnehuis in Beekbergen. Ze hebben hiervoor de bekende longarts en auteur Sander de Hosson uitgenodigd als spreker. Sander schreef o.a. de boeken ‘Slotcouplet’ en ‘Leven toevoegen aan de dagen’.\nInschrijving gesloten (vol) \nVoor meer info kijk op: https://palliaweb.nl/netwerk-oostveluwe/agenda/symposium-met-sander-de-hosson \n\nDit symposium wordt gehouden in het kader van de Internationale Dag van de Palliatieve Zorg.\nKlik hier voor het volledige nieuwsbericht.
URL:https://www.seniorenplatformapeldoorn.nl/event/symposium-met-sander-de-hosson-internationale-dag-van-de-palliatieve-zorg
LOCATION:Het Zonnehuis\, Ruitersmolenweg 5\, Beekbergen\, 7361 CC
CATEGORIES:Activiteiten
END:VEVENT
END:VCALENDAR