BEGIN:VCALENDAR
VERSION:2.0
PRODID:-//Senioren Platform Apeldoorn - ECPv6.2.6//NONSGML v1.0//EN
CALSCALE:GREGORIAN
METHOD:PUBLISH
X-ORIGINAL-URL:https://www.seniorenplatformapeldoorn.nl
X-WR-CALDESC:Evenementen voor Senioren Platform Apeldoorn
REFRESH-INTERVAL;VALUE=DURATION:PT1H
X-Robots-Tag:noindex
X-PUBLISHED-TTL:PT1H
BEGIN:VTIMEZONE
TZID:Europe/Amsterdam
BEGIN:DAYLIGHT
TZOFFSETFROM:+0100
TZOFFSETTO:+0200
TZNAME:CEST
DTSTART:20230326T010000
END:DAYLIGHT
BEGIN:STANDARD
TZOFFSETFROM:+0200
TZOFFSETTO:+0100
TZNAME:CET
DTSTART:20231029T010000
END:STANDARD
END:VTIMEZONE
BEGIN:VEVENT
DTSTART;TZID=Europe/Amsterdam:20231006T143000
DTEND;TZID=Europe/Amsterdam:20231006T143000
DTSTAMP:20260420T170404
CREATED:20230925T131547Z
LAST-MODIFIED:20230925T131547Z
UID:5189-1696602600-1696602600@www.seniorenplatformapeldoorn.nl
SUMMARY:Film op Nationale Ouderendag in Gigant
DESCRIPTION:“De ongelofelijke tocht van Harold Fry “\nHarold Fry (Jim Broadbent) heeft met zijn vrouw Maureen (Penelope Wilton) een heel normaal leven in een dorpje in Zuid-Engeland. Op een doordeweekse ochtend verlaat hij zijn huis om een brief te posten aan zijn vriendin Queenie die op sterven ligt. Hij weet dan nog niet dat hij aan een onwaarschijnlijke reis begint naar Berwick-upon-Tweed\, de meest Noordelijke stad van het land. Hij heeft geen wandelschoenen\, geen kaart en telefoon. Hij weet alleen dat hij door moet blijven lopen\, om Queenie hoop en steun te geven. Onderweg ontmoet hij allerlei mensen met hun eigen bijzondere verhalen en sommigen lopen zelfs met hem mee omdat ze geloven in zijn doel. The Unlikely Pilgrimage is een verhaal over liefde\, hoop\, vriendschap en over de kleine dingen in het leven. \nEen samenwerking van Gigant en Senioren Platform Apeldoorn.\nEntree € 5\,- incl. koffie en thee op vertoon van je filmticket.
URL:https://www.seniorenplatformapeldoorn.nl/event/film-op-nationale-ouderendag-in-gigant
LOCATION:Gigant\, Nieuwstraat 377\, Apeldoorn\, 7311 BR\, Nederland
CATEGORIES:Activiteiten
END:VEVENT
END:VCALENDAR