BEGIN:VCALENDAR
VERSION:2.0
PRODID:-//Senioren Platform Apeldoorn - ECPv6.2.6//NONSGML v1.0//EN
CALSCALE:GREGORIAN
METHOD:PUBLISH
X-WR-CALNAME:Senioren Platform Apeldoorn
X-ORIGINAL-URL:https://www.seniorenplatformapeldoorn.nl
X-WR-CALDESC:Evenementen voor Senioren Platform Apeldoorn
REFRESH-INTERVAL;VALUE=DURATION:PT1H
X-Robots-Tag:noindex
X-PUBLISHED-TTL:PT1H
BEGIN:VTIMEZONE
TZID:Europe/Amsterdam
BEGIN:DAYLIGHT
TZOFFSETFROM:+0100
TZOFFSETTO:+0200
TZNAME:CEST
DTSTART:20230326T010000
END:DAYLIGHT
BEGIN:STANDARD
TZOFFSETFROM:+0200
TZOFFSETTO:+0100
TZNAME:CET
DTSTART:20231029T010000
END:STANDARD
END:VTIMEZONE
BEGIN:VEVENT
DTSTART;TZID=Europe/Amsterdam:20230930T130000
DTEND;TZID=Europe/Amsterdam:20230930T160000
DTSTAMP:20260420T210342
CREATED:20230925T120132Z
LAST-MODIFIED:20230925T120132Z
UID:5173-1696078800-1696089600@www.seniorenplatformapeldoorn.nl
SUMMARY:Eigenwijks Inspiratie Festival
DESCRIPTION:Op 30 september organiseert Stimenz met de samenwerkingspartners het eerste Eigenwijks Inspiratie Festival. \nBij het festival laten inwoners van de gemeente Apeldoorn zien wat zij met ondersteuning van de verschillende organisaties het afgelopen jaar hebben neergezet. \nHet festival vindt plaats op het terrein aan de Prins Willem-Alexanderlaan 1419. De starttijd is 13 uur. \n 
URL:https://www.seniorenplatformapeldoorn.nl/event/eigenwijks-inspiratie-festival
LOCATION:Stimenz\, Prins Willem-Alexanderlaan 1419\, 7312 GA Apeldoorn
CATEGORIES:Activiteiten
END:VEVENT
END:VCALENDAR