BEGIN:VCALENDAR
VERSION:2.0
PRODID:-//Senioren Platform Apeldoorn - ECPv6.2.6//NONSGML v1.0//EN
CALSCALE:GREGORIAN
METHOD:PUBLISH
X-ORIGINAL-URL:https://www.seniorenplatformapeldoorn.nl
X-WR-CALDESC:Evenementen voor Senioren Platform Apeldoorn
REFRESH-INTERVAL;VALUE=DURATION:PT1H
X-Robots-Tag:noindex
X-PUBLISHED-TTL:PT1H
BEGIN:VTIMEZONE
TZID:Europe/Amsterdam
BEGIN:DAYLIGHT
TZOFFSETFROM:+0100
TZOFFSETTO:+0200
TZNAME:CEST
DTSTART:20230326T010000
END:DAYLIGHT
BEGIN:STANDARD
TZOFFSETFROM:+0200
TZOFFSETTO:+0100
TZNAME:CET
DTSTART:20231029T010000
END:STANDARD
END:VTIMEZONE
BEGIN:VEVENT
DTSTART;TZID=Europe/Amsterdam:20230921T100000
DTEND;TZID=Europe/Amsterdam:20230921T160000
DTSTAMP:20260420T182609
CREATED:20230919T114444Z
LAST-MODIFIED:20230919T114520Z
UID:5138-1695290400-1695312000@www.seniorenplatformapeldoorn.nl
SUMMARY:Open dag basisontmoetingsplekken
DESCRIPTION:Kom langs en ervaar het zelf! \nOp donderdag 21 september\, tussen 10.00 en 16.00 uur\, openen alle basisontmoetingsplekken in de gemeente hun deuren voor u! \nontmoetelkaarinapeldoorn.nl
URL:https://www.seniorenplatformapeldoorn.nl/event/open-dag-basisontmoetingsplekken
CATEGORIES:Activiteiten
END:VEVENT
END:VCALENDAR