BEGIN:VCALENDAR
VERSION:2.0
PRODID:-//Senioren Platform Apeldoorn - ECPv6.2.6//NONSGML v1.0//EN
CALSCALE:GREGORIAN
METHOD:PUBLISH
X-ORIGINAL-URL:https://www.seniorenplatformapeldoorn.nl
X-WR-CALDESC:Evenementen voor Senioren Platform Apeldoorn
REFRESH-INTERVAL;VALUE=DURATION:PT1H
X-Robots-Tag:noindex
X-PUBLISHED-TTL:PT1H
BEGIN:VTIMEZONE
TZID:Europe/Amsterdam
BEGIN:DAYLIGHT
TZOFFSETFROM:+0100
TZOFFSETTO:+0200
TZNAME:CEST
DTSTART:20230326T010000
END:DAYLIGHT
BEGIN:STANDARD
TZOFFSETFROM:+0200
TZOFFSETTO:+0100
TZNAME:CET
DTSTART:20231029T010000
END:STANDARD
END:VTIMEZONE
BEGIN:VEVENT
DTSTART;TZID=Europe/Amsterdam:20230917T120000
DTEND;TZID=Europe/Amsterdam:20230917T190000
DTSTAMP:20260420T182603
CREATED:20230905T103108Z
LAST-MODIFIED:20230905T103258Z
UID:5119-1694952000-1694977200@www.seniorenplatformapeldoorn.nl
SUMMARY:Pasar Bronbeek
DESCRIPTION:De succesvolle Pasar Bronbeek op landgoed Bronbeek! \nZaterdag 16 september (12:00 – 20:00 uur) en zondag 17 september 2023 (12:00 – 19:00 uur). Zet het alvast in uw agenda. U bent van harte welkom.
URL:https://www.seniorenplatformapeldoorn.nl/event/pasar-bronbeek-2
LOCATION:Landgoed Bronbeek\, Velperweg 147\, Arnhem\, 6824 MB
CATEGORIES:Activiteiten
END:VEVENT
END:VCALENDAR