BEGIN:VCALENDAR
VERSION:2.0
PRODID:-//Senioren Platform Apeldoorn - ECPv6.2.6//NONSGML v1.0//EN
CALSCALE:GREGORIAN
METHOD:PUBLISH
X-WR-CALNAME:Senioren Platform Apeldoorn
X-ORIGINAL-URL:https://www.seniorenplatformapeldoorn.nl
X-WR-CALDESC:Evenementen voor Senioren Platform Apeldoorn
REFRESH-INTERVAL;VALUE=DURATION:PT1H
X-Robots-Tag:noindex
X-PUBLISHED-TTL:PT1H
BEGIN:VTIMEZONE
TZID:Europe/Amsterdam
BEGIN:DAYLIGHT
TZOFFSETFROM:+0100
TZOFFSETTO:+0200
TZNAME:CEST
DTSTART:20230326T010000
END:DAYLIGHT
BEGIN:STANDARD
TZOFFSETFROM:+0200
TZOFFSETTO:+0100
TZNAME:CET
DTSTART:20231029T010000
END:STANDARD
END:VTIMEZONE
BEGIN:VEVENT
DTSTART;TZID=Europe/Amsterdam:20230902T130000
DTEND;TZID=Europe/Amsterdam:20230902T180000
DTSTAMP:20260420T182512
CREATED:20230822T120748Z
LAST-MODIFIED:20230822T120748Z
UID:5106-1693659600-1693677600@www.seniorenplatformapeldoorn.nl
SUMMARY:Jaarlijks familie festival in het Zuiderpark Apeldoorn Zuid
DESCRIPTION:Een greep uit het programma: \n\nMuziek & Dans\nLinedance Apeldoorn\nVoetbaltoernooi op het Edward Sturing court.\nBungee trampoline\nDansensemble Phoenix\n25 informatiekramen\nDemonstratie Dansschool Koldenhof\n\nGratis Toegang\nMeer informatie:\nhttps://www.zuiderparkfestivalapeldoornzuid.nl/
URL:https://www.seniorenplatformapeldoorn.nl/event/jaarlijks-familie-festival-in-het-zuiderpark-apeldoorn-zuid
LOCATION:Zuiderpark\, Maasstraat 4\, Apeldoorn\, 7333 JG
CATEGORIES:Activiteiten
END:VEVENT
END:VCALENDAR