BEGIN:VCALENDAR
VERSION:2.0
PRODID:-//Senioren Platform Apeldoorn - ECPv6.2.6//NONSGML v1.0//EN
CALSCALE:GREGORIAN
METHOD:PUBLISH
X-WR-CALNAME:Senioren Platform Apeldoorn
X-ORIGINAL-URL:https://www.seniorenplatformapeldoorn.nl
X-WR-CALDESC:Evenementen voor Senioren Platform Apeldoorn
REFRESH-INTERVAL;VALUE=DURATION:PT1H
X-Robots-Tag:noindex
X-PUBLISHED-TTL:PT1H
BEGIN:VTIMEZONE
TZID:Europe/Amsterdam
BEGIN:DAYLIGHT
TZOFFSETFROM:+0100
TZOFFSETTO:+0200
TZNAME:CEST
DTSTART:20230326T010000
END:DAYLIGHT
BEGIN:STANDARD
TZOFFSETFROM:+0200
TZOFFSETTO:+0100
TZNAME:CET
DTSTART:20231029T010000
END:STANDARD
END:VTIMEZONE
BEGIN:VEVENT
DTSTART;TZID=Europe/Amsterdam:20230521T143000
DTEND;TZID=Europe/Amsterdam:20230521T143000
DTSTAMP:20260420T235213
CREATED:20230313T123222Z
LAST-MODIFIED:20230313T123302Z
UID:4497-1684679400-1684679400@www.seniorenplatformapeldoorn.nl
SUMMARY:Gigant: De verjaardag van Anja
DESCRIPTION:De verjaardag van Anja is een intiem feest vol verhalen\, gedichten en kleinkunst. Iedere twee maanden op zondagmiddag ontvangen de gastheren (de Apeldoornse schrijvers Bas Langereis\, Willem Bierman\, Aad van der Waal en Reinier Groenendijk) diverse schrijvers\, dichters en kleinkunstenaars. Als er een stilte valt\, doen zij zelf ook een duit in de literaire of poëtische zak. \n\nPrijs: Gratis toegang zonder ticket\nTijden: zo 26 maart 14:30\nLocatie: Walvis \n\nFoto’s: Ernst van Rossum
URL:https://www.seniorenplatformapeldoorn.nl/event/gigant-de-verjaardag-van-anja-2
LOCATION:Gigant\, Nieuwstraat 377\, Apeldoorn\, 7311 BR\, Nederland
CATEGORIES:Activiteiten
END:VEVENT
BEGIN:VEVENT
DTSTART;TZID=Europe/Amsterdam:20230521T150000
DTEND;TZID=Europe/Amsterdam:20230521T150000
DTSTAMP:20260420T235213
CREATED:20230103T132640Z
LAST-MODIFIED:20230103T132729Z
UID:4342-1684681200-1684681200@www.seniorenplatformapeldoorn.nl
SUMMARY:Middagje-uit in ORPHEUS: Blue Grass Boogiemen en Cor Sanne - Grand Old Country
DESCRIPTION:Met veel enthousiasme en liefde voor theater én Apeldoorn is een groep betrokken Apeldoorners aan de slag gegaan om een mooi programma samen te stellen voor de oudere Apeldoorner. Professionele voorstellingen wisselen af met zelf georganiseerde activiteiten zoals een pubquiz of een middag vol dans en wereldmuziek. Samen een gezellige middag hebben is bij deze voorstellingen en activiteiten het belangrijkste. \n\nVoorstelling: Blue Grass Boogiemen en Cor Sanne – Grand Old Country\nVijf gepassioneerde muzikanten/zangers om een old time microfoon voeren u terug naar de jaren 50 en 60 met de grote successen van Johnny Cash\, Hank Williams\, John Denver\, Don Williams\, Bill Monroe\, Elvis Presley\, Ricky Nelson enz. \n \nThe Blue Grass Boogiemen en Cor Sanne: hartverscheurende muziek uit ’t gouden tijdperk voor country en rock ‘n’ roll. Authentieke zang en virtuoze instrumentatie en dat alles 100% akoestisch. Kleding als in oude USA films. \nGrand Old Country: een hartzaak…! Zo puur hoor je het nergens! \n  \nReserveer je tickets via: https://www.orpheus.nl/voorstellingen/themas/156/Middagje_uitorpheus.nl/middagjeuit \n\nDe toegang is gratis\, maar vooraf reserveren is verstandig\, want er is maar een beperkt aantal plekken beschikbaar.\nVooraf reserveren voor deze gratis activiteit is verplicht!
URL:https://www.seniorenplatformapeldoorn.nl/event/middagje-uit-in-orpheus-blue-grass-boogiemen-en-cor-sanne-grand-old-country
LOCATION:Orpheus\, Churchillplein 1\, 7314 BZ Apeldoorn
CATEGORIES:Activiteiten
END:VEVENT
END:VCALENDAR