BEGIN:VCALENDAR
VERSION:2.0
PRODID:-//Senioren Platform Apeldoorn - ECPv6.2.6//NONSGML v1.0//EN
CALSCALE:GREGORIAN
METHOD:PUBLISH
X-WR-CALNAME:Senioren Platform Apeldoorn
X-ORIGINAL-URL:https://www.seniorenplatformapeldoorn.nl
X-WR-CALDESC:Evenementen voor Senioren Platform Apeldoorn
REFRESH-INTERVAL;VALUE=DURATION:PT1H
X-Robots-Tag:noindex
X-PUBLISHED-TTL:PT1H
BEGIN:VTIMEZONE
TZID:Europe/Amsterdam
BEGIN:DAYLIGHT
TZOFFSETFROM:+0100
TZOFFSETTO:+0200
TZNAME:CEST
DTSTART:20230326T010000
END:DAYLIGHT
BEGIN:STANDARD
TZOFFSETFROM:+0200
TZOFFSETTO:+0100
TZNAME:CET
DTSTART:20231029T010000
END:STANDARD
END:VTIMEZONE
BEGIN:VEVENT
DTSTART;TZID=Europe/Amsterdam:20230511T083000
DTEND;TZID=Europe/Amsterdam:20230511T173000
DTSTAMP:20260420T235852
CREATED:20230424T121547Z
LAST-MODIFIED:20230424T121615Z
UID:4929-1683793800-1683826200@www.seniorenplatformapeldoorn.nl
SUMMARY:Twentse historie en mozzarella
DESCRIPTION:  \nVan de KBO Reiscommissie\nDe reiscommissie heeft weer een leuk dagreisje gevonden. Donderdag 11 mei 2023 willen wij naar “Steenfabriek De Werklust” in Losser en naar “Buffalo Farm Twente” in Denekamp. \n\nOpstappen bij de Mariakerk aan de Hoofdstraat\, vertrek om 8:30 uur.\n\nDeze dagreis kost voor leden € 70\,00\, voor niet-leden/introducees € 75\,00.\nU kunt zich telefonisch aanmelden bij:\nMarianne Blokhuizen\, 06 513 471 22 of 055 737 00 68\nMarianne Peters\, 06 515 383 03 of 055 541 91 14\n\n\nGraag betalen vóór 1 mei 2023!\nRekening: NL 36 INGB 0004 5744 74 t.n.v. KBO Apeldoorn\, afdeling reizen.\n\n\n\nVoor meer informatie over deze dagreis bekijk het volledige nieuwsbericht – Klik hier
URL:https://www.seniorenplatformapeldoorn.nl/event/twentse-historie-en-mozzarella
LOCATION:Mariakerk\, Hoofdstraat 18\, Apeldoorn\, Nederland
CATEGORIES:Activiteiten
END:VEVENT
END:VCALENDAR