BEGIN:VCALENDAR
VERSION:2.0
PRODID:-//Senioren Platform Apeldoorn - ECPv6.2.6//NONSGML v1.0//EN
CALSCALE:GREGORIAN
METHOD:PUBLISH
X-WR-CALNAME:Senioren Platform Apeldoorn
X-ORIGINAL-URL:https://www.seniorenplatformapeldoorn.nl
X-WR-CALDESC:Evenementen voor Senioren Platform Apeldoorn
REFRESH-INTERVAL;VALUE=DURATION:PT1H
X-Robots-Tag:noindex
X-PUBLISHED-TTL:PT1H
BEGIN:VTIMEZONE
TZID:Europe/Amsterdam
BEGIN:DAYLIGHT
TZOFFSETFROM:+0100
TZOFFSETTO:+0200
TZNAME:CEST
DTSTART:20230326T010000
END:DAYLIGHT
BEGIN:STANDARD
TZOFFSETFROM:+0200
TZOFFSETTO:+0100
TZNAME:CET
DTSTART:20231029T010000
END:STANDARD
END:VTIMEZONE
BEGIN:VEVENT
DTSTART;TZID=Europe/Amsterdam:20230504T153000
DTEND;TZID=Europe/Amsterdam:20230504T163000
DTSTAMP:20260420T235854
CREATED:20230327T133408Z
LAST-MODIFIED:20230327T134456Z
UID:4566-1683214200-1683217800@www.seniorenplatformapeldoorn.nl
SUMMARY:‘Oud Geleerd Jong Gedaan‘ met het thema ‘Politiek – in Nederland en internationaal’ - Dag 4
DESCRIPTION:Thema: ‘Politiek – in Nederland en internationaal’\nStudent/Docent: Tim Masselink\nData: Donderdag 6\, 13\, 20 april en 4 mei 2023\nTijdstip: 15.30 uur – 16.30 uur | Inloop vanaf 15.00 uur\nLocatie: De Drie Ranken\, Eglantierlaan 202 in de Maten te Apeldoorn\nKosten: € 25\,- voor de gehele reeks \nVoor meer informatie over de colleges van ‘Oud Geleerd Jong Gedaan‘ klik hier \nDeze reeks wordt gegeven door student-docent Tim Masselink en bestaat uit vier deelcolleges. \nPolitiek is overal en iedereen heeft er mee te maken. Tim Masselink neemt u mee op reis door de wereld van de Nederlandse en internationale politiek. \n\nDonderdag 4 mei 2023\nCollege 4 – Media\nAls derde staat het thema ‘’Public Affairs’’ op het programma. De lobbysector is een vaak onbekende\, maar cruciale speler als het gaat om beleidsvorming in Nederland. Zowel de vaderlandse\, als de buitenlandse lobbywereld wordt onder de loep genomen. Wat doen zij en wat is hun rol in de Nederlandse politiek? \n\nBekijk hieronder de overige colleges uit deze reeks: \nCollege 1 – 6 april 2023\nInternationaal in relatie tot nationaal \nCollege 2 – 13 april 2023\nPrinsjesdag \nCollege 3 – 20 april 2023\nPublic Affairs \nCollege 4  – 4 mei 2023\nMedia \n\nOpgave voor de college-reeks via de mail\n\nStuur een mail naar oudgeleerdjonggedaan@3ranken.nl\, met vermelding van naam\, adres\, telefoon-\nnummer en geboortedatum\nEen betaling van € 25 op rekeningnummer NL67 INGB 0008 5034 83 t.n.v. Stichting Huis van Ontmoeting o.v.v. OGJG april 2023\n€ 25 is voor het geheel van de 4 colleges. Uw betaling graag voor de start van het eerste college.\nBij over-intekening krijgen senioren (60+) voorrang boven niet-senioren.\n\nInformatie\n\nGerrit van Daalen 06-20458925 of Gert Nijmeijer 06-53783808\nOf kijk op: www.3ranken.nl/ogjg.\nEn over de landelijke stichting OGJG: www.oudgeleerdjonggedaan.nl.
URL:https://www.seniorenplatformapeldoorn.nl/event/oud-geleerd-jong-gedaan-met-het-thema-politiek-in-nederland-en-internationaal-dag-4
LOCATION:De Drie Ranken\, Eglantierlaan 202\, Apeldoorn\, Gelderland\, 7329 AP\, Nederland
CATEGORIES:Activiteiten
END:VEVENT
END:VCALENDAR