BEGIN:VCALENDAR
VERSION:2.0
PRODID:-//Senioren Platform Apeldoorn - ECPv6.2.6//NONSGML v1.0//EN
CALSCALE:GREGORIAN
METHOD:PUBLISH
X-WR-CALNAME:Senioren Platform Apeldoorn
X-ORIGINAL-URL:https://www.seniorenplatformapeldoorn.nl
X-WR-CALDESC:Evenementen voor Senioren Platform Apeldoorn
REFRESH-INTERVAL;VALUE=DURATION:PT1H
X-Robots-Tag:noindex
X-PUBLISHED-TTL:PT1H
BEGIN:VTIMEZONE
TZID:Europe/Amsterdam
BEGIN:DAYLIGHT
TZOFFSETFROM:+0100
TZOFFSETTO:+0200
TZNAME:CEST
DTSTART:20230326T010000
END:DAYLIGHT
BEGIN:STANDARD
TZOFFSETFROM:+0200
TZOFFSETTO:+0100
TZNAME:CET
DTSTART:20231029T010000
END:STANDARD
END:VTIMEZONE
BEGIN:VEVENT
DTSTART;VALUE=DATE:20230430
DTEND;VALUE=DATE:20230501
DTSTAMP:20260421T011214
CREATED:20230228T094220Z
LAST-MODIFIED:20230228T094547Z
UID:4435-1682812800-1682899199@www.seniorenplatformapeldoorn.nl
SUMMARY:Themazondag Kumpulan: Medan
DESCRIPTION:Sprekers: Mark Loderichs\, Frans Leidelmeijer\, Hasti Tarekat en Frank Okker.
URL:https://www.seniorenplatformapeldoorn.nl/event/themazondag-kumpulan-medan
LOCATION:Kumpulan Bronbeek\, Velperweg 147\, Arnhem\, 6824 MB\, Nederland
CATEGORIES:Activiteiten
END:VEVENT
END:VCALENDAR