BEGIN:VCALENDAR
VERSION:2.0
PRODID:-//Senioren Platform Apeldoorn - ECPv6.2.6//NONSGML v1.0//EN
CALSCALE:GREGORIAN
METHOD:PUBLISH
X-ORIGINAL-URL:https://www.seniorenplatformapeldoorn.nl
X-WR-CALDESC:Evenementen voor Senioren Platform Apeldoorn
REFRESH-INTERVAL;VALUE=DURATION:PT1H
X-Robots-Tag:noindex
X-PUBLISHED-TTL:PT1H
BEGIN:VTIMEZONE
TZID:Europe/Amsterdam
BEGIN:DAYLIGHT
TZOFFSETFROM:+0100
TZOFFSETTO:+0200
TZNAME:CEST
DTSTART:20230326T010000
END:DAYLIGHT
BEGIN:STANDARD
TZOFFSETFROM:+0200
TZOFFSETTO:+0100
TZNAME:CET
DTSTART:20231029T010000
END:STANDARD
END:VTIMEZONE
BEGIN:VEVENT
DTSTART;TZID=Europe/Amsterdam:20230404T080000
DTEND;TZID=Europe/Amsterdam:20230404T170000
DTSTAMP:20260421T011235
CREATED:20230404T132952Z
LAST-MODIFIED:20230404T132952Z
UID:4615-1680595200-1680627600@www.seniorenplatformapeldoorn.nl
SUMMARY:KBO Ledenbijeenkomst – 21 juni
DESCRIPTION:KBO Ledenbijeenkomst WZC Ste. Marie\, Arnhemseweg 279\, 7333 AS Apeldoorn \n\nWoensdag 21 juni 2023\, 14:30 uur: Nederlandse liedjes \nOok dit jaar hebben we Herman en Co kunnen boeken om ons een middag te laten genieten van bekende Nederlands talige liedjes en andere bekende meezingers. \n\nKom a.u.b. op tijd en vergeet niet uw komst te melden\, om teleurstellingen te voorkomen(!): tel. 06 348 304 72 of e-mail: rien.bout80@g-mail.com.\nNog even dit: Voelt u zich niet goed\, blijf thuis.
URL:https://www.seniorenplatformapeldoorn.nl/event/kbo-ledenbijeenkomst-21-juni
LOCATION:WZC Ste Marie\, Arnhemseweg 279\, 7333 AS Apeldoorn
CATEGORIES:Activiteiten
END:VEVENT
END:VCALENDAR