BEGIN:VCALENDAR
VERSION:2.0
PRODID:-//Senioren Platform Apeldoorn - ECPv6.2.6//NONSGML v1.0//EN
CALSCALE:GREGORIAN
METHOD:PUBLISH
X-WR-CALNAME:Senioren Platform Apeldoorn
X-ORIGINAL-URL:https://www.seniorenplatformapeldoorn.nl
X-WR-CALDESC:Evenementen voor Senioren Platform Apeldoorn
REFRESH-INTERVAL;VALUE=DURATION:PT1H
X-Robots-Tag:noindex
X-PUBLISHED-TTL:PT1H
BEGIN:VTIMEZONE
TZID:Europe/Amsterdam
BEGIN:DAYLIGHT
TZOFFSETFROM:+0100
TZOFFSETTO:+0200
TZNAME:CEST
DTSTART:20230326T010000
END:DAYLIGHT
BEGIN:STANDARD
TZOFFSETFROM:+0200
TZOFFSETTO:+0100
TZNAME:CET
DTSTART:20231029T010000
END:STANDARD
END:VTIMEZONE
BEGIN:VEVENT
DTSTART;TZID=Europe/Amsterdam:20230401T204500
DTEND;TZID=Europe/Amsterdam:20230401T204500
DTSTAMP:20260421T011214
CREATED:20230310T122649Z
LAST-MODIFIED:20230310T122733Z
UID:4452-1680381900-1680381900@www.seniorenplatformapeldoorn.nl
SUMMARY:Rock City: The Life We Live
DESCRIPTION:Acteurs: Rudy Bennett\, Hans Vandenburg\, Joop Roelofs\, Peter Vink\, Nicko Christiansen\, Cesar Zuiderwijk\, Danny Vera\, Johan Derksen\, Frans Krassenburg. \nDuur: 91 minuten \nPremière: www.gigant.nl/film/rock-city-the-life-we-live/\nFilmtickets: Normaal € 11\,00 | Vriend € 8\,50
URL:https://www.seniorenplatformapeldoorn.nl/event/rock-city-the-life-we-live
LOCATION:Gigant\, Nieuwstraat 377\, Apeldoorn\, 7311 BR\, Nederland
CATEGORIES:Activiteiten
END:VEVENT
END:VCALENDAR