BEGIN:VCALENDAR
VERSION:2.0
PRODID:-//Senioren Platform Apeldoorn - ECPv6.2.6//NONSGML v1.0//EN
CALSCALE:GREGORIAN
METHOD:PUBLISH
X-ORIGINAL-URL:https://www.seniorenplatformapeldoorn.nl
X-WR-CALDESC:Evenementen voor Senioren Platform Apeldoorn
REFRESH-INTERVAL;VALUE=DURATION:PT1H
X-Robots-Tag:noindex
X-PUBLISHED-TTL:PT1H
BEGIN:VTIMEZONE
TZID:Europe/Amsterdam
BEGIN:DAYLIGHT
TZOFFSETFROM:+0100
TZOFFSETTO:+0200
TZNAME:CEST
DTSTART:20230326T010000
END:DAYLIGHT
BEGIN:STANDARD
TZOFFSETFROM:+0200
TZOFFSETTO:+0100
TZNAME:CET
DTSTART:20231029T010000
END:STANDARD
END:VTIMEZONE
BEGIN:VEVENT
DTSTART;TZID=Europe/Amsterdam:20230326T133000
DTEND;TZID=Europe/Amsterdam:20230326T133000
DTSTAMP:20260421T023430
CREATED:20230310T122204Z
LAST-MODIFIED:20230310T122220Z
UID:4449-1679837400-1679837400@www.seniorenplatformapeldoorn.nl
SUMMARY:FIlm Royal Opera House 'Turandot'
DESCRIPTION:Puccini heeft in een magistrale uitvoering het 13 eeuws verhaal in muziek weergegeven Het aloude verhaal van de dochter van Turan uitgevoerd vanuit\nde Royal Opera House\, door London Philharmonisch orkest. \nSamen genieten van deze verrukkelijke muziek en dromen van de romantiek van dit verhaal. \nToegang 65+ € 12\,00
URL:https://www.seniorenplatformapeldoorn.nl/event/film-royal-opera-house-turandot
LOCATION:Gigant\, Nieuwstraat 377\, Apeldoorn\, 7311 BR\, Nederland
CATEGORIES:Activiteiten
END:VEVENT
BEGIN:VEVENT
DTSTART;TZID=Europe/Amsterdam:20230326T143000
DTEND;TZID=Europe/Amsterdam:20230326T143000
DTSTAMP:20260421T023430
CREATED:20230313T123035Z
LAST-MODIFIED:20230313T123035Z
UID:4491-1679841000-1679841000@www.seniorenplatformapeldoorn.nl
SUMMARY:Gigant: De verjaardag van Anja
DESCRIPTION:De verjaardag van Anja is een intiem feest vol verhalen\, gedichten en kleinkunst. Iedere twee maanden op zondagmiddag ontvangen de gastheren (de Apeldoornse schrijvers Bas Langereis\, Willem Bierman\, Aad van der Waal en Reinier Groenendijk) diverse schrijvers\, dichters en kleinkunstenaars. Als er een stilte valt\, doen zij zelf ook een duit in de literaire of poëtische zak. \n\nPrijs: Gratis toegang zonder ticket\nTijden: zo 26 maart 14:30\nLocatie: Walvis \n\nFoto’s: Ernst van Rossum
URL:https://www.seniorenplatformapeldoorn.nl/event/gigant-de-verjaardag-van-anja
LOCATION:Gigant\, Nieuwstraat 377\, Apeldoorn\, 7311 BR\, Nederland
CATEGORIES:Activiteiten
END:VEVENT
BEGIN:VEVENT
DTSTART;TZID=Europe/Amsterdam:20230326T161500
DTEND;TZID=Europe/Amsterdam:20230326T161500
DTSTAMP:20260421T023430
CREATED:20230313T123716Z
LAST-MODIFIED:20230313T123716Z
UID:4499-1679847300-1679847300@www.seniorenplatformapeldoorn.nl
SUMMARY:Gigant Muziekcafé: Leah Rye
DESCRIPTION:Leah Rye is gefascineerd door dromen. Ze waant zich in een surrealistische wereld vol mystiek en melancholie. Vlak voor de coronapandemie trok ze nog in haar eentje door Londen voor een solotour van 6 shows. De in Amsterdam gevestigde songwriter heeft ondanks het stilvallen van alle optredens zelf niet stilgezeten. Vorig jaar werd haar debuut EP “Elusive” gereleased met twee uitverkochte shows in Bitterzoet Amsterdam en een kleine tour door Nederland. \nInmiddels ligt haar eerste album bijna klaar om te worden uitgebracht en zal de eerste single zich rond april 2023 aandienen. In haar muziek zoekt ze continu naar haar identiteit als artiest en persoon en de contrasten tussen licht en donker. \n\nPrijs: Gratis toegang zonder ticket\nTijden: zo 26 maart 16:15\nLocatie: Café
URL:https://www.seniorenplatformapeldoorn.nl/event/gigant-muziekcafe-leah-rye
LOCATION:Gigant\, Nieuwstraat 377\, Apeldoorn\, 7311 BR\, Nederland
CATEGORIES:Activiteiten
END:VEVENT
END:VCALENDAR