BEGIN:VCALENDAR
VERSION:2.0
PRODID:-//Senioren Platform Apeldoorn - ECPv6.2.6//NONSGML v1.0//EN
CALSCALE:GREGORIAN
METHOD:PUBLISH
X-ORIGINAL-URL:https://www.seniorenplatformapeldoorn.nl
X-WR-CALDESC:Evenementen voor Senioren Platform Apeldoorn
REFRESH-INTERVAL;VALUE=DURATION:PT1H
X-Robots-Tag:noindex
X-PUBLISHED-TTL:PT1H
BEGIN:VTIMEZONE
TZID:Europe/Amsterdam
BEGIN:DAYLIGHT
TZOFFSETFROM:+0100
TZOFFSETTO:+0200
TZNAME:CEST
DTSTART:20230326T010000
END:DAYLIGHT
BEGIN:STANDARD
TZOFFSETFROM:+0200
TZOFFSETTO:+0100
TZNAME:CET
DTSTART:20231029T010000
END:STANDARD
END:VTIMEZONE
BEGIN:VEVENT
DTSTART;VALUE=DATE:20230319
DTEND;VALUE=DATE:20230320
DTSTAMP:20260421T023309
CREATED:20230228T090234Z
LAST-MODIFIED:20230228T090344Z
UID:4431-1679184000-1679270399@www.seniorenplatformapeldoorn.nl
SUMMARY:Themazondag Kumpulan: Onderwijs in Nederland en Indonesië
DESCRIPTION:Sprekers: Jacques Dane (hoofd onderzoek en conservator Nationaal Onderwijsmuseum Dordrecht)\, Mervin Bakker (NUFFIC)\, Ute Jansen (Van Deventer-Maas Stichting) en Hans van den Akker.
URL:https://www.seniorenplatformapeldoorn.nl/event/themazondag-kumpulan-onderwijs-in-nederland-en-indonesie
LOCATION:Kumpulan Bronbeek\, Velperweg 147\, Arnhem\, 6824 MB\, Nederland
CATEGORIES:Activiteiten
END:VEVENT
BEGIN:VEVENT
DTSTART;TZID=Europe/Amsterdam:20230319T161500
DTEND;TZID=Europe/Amsterdam:20230319T161500
DTSTAMP:20260421T023309
CREATED:20230310T124522Z
LAST-MODIFIED:20230310T124522Z
UID:4463-1679242500-1679242500@www.seniorenplatformapeldoorn.nl
SUMMARY:Gigant Muziekcafé: The Mocks
DESCRIPTION:The Mocks is een jonge band uit Nieuw-Vennep. Geïnspireerd door de mod-beweging uit de jaren zestig\, kleden de bandleden zich in (vintage) maatpakken van de beste kwaliteit. Hun muziekstijl is sterk beïnvloedt door de beatmuziek\, zoals the Who\, the Kinks\, the Small Faces en the Motions. Hun liveshows belichamen de rauwe energie van een vergane tijd\, wat nog meer zichtbaar is aan de vintage gitaren\, versterkers en microfoons. Ondanks dat de band hun roots in muziek heeft dat meer dan een halve eeuw oud is\, klinken de nummers origineel en verfrissend in de huidige tijd\, waarin effecten en autotune bijna niet meer weg te denken zijn. \nBen je klaar voor de nieuwe beatsensatie? \n\nPrijs: Gratis toegang zonder ticket\nTijden: zo 19 maart 16:15\nLocatie: Café
URL:https://www.seniorenplatformapeldoorn.nl/event/gigant-muziekcafe-the-mocks
LOCATION:Gigant\, Nieuwstraat 377\, Apeldoorn\, 7311 BR\, Nederland
CATEGORIES:Activiteiten
END:VEVENT
END:VCALENDAR