BEGIN:VCALENDAR
VERSION:2.0
PRODID:-//Senioren Platform Apeldoorn - ECPv6.2.6//NONSGML v1.0//EN
CALSCALE:GREGORIAN
METHOD:PUBLISH
X-ORIGINAL-URL:https://www.seniorenplatformapeldoorn.nl
X-WR-CALDESC:Evenementen voor Senioren Platform Apeldoorn
REFRESH-INTERVAL;VALUE=DURATION:PT1H
X-Robots-Tag:noindex
X-PUBLISHED-TTL:PT1H
BEGIN:VTIMEZONE
TZID:Europe/Amsterdam
BEGIN:DAYLIGHT
TZOFFSETFROM:+0100
TZOFFSETTO:+0200
TZNAME:CEST
DTSTART:20230326T010000
END:DAYLIGHT
BEGIN:STANDARD
TZOFFSETFROM:+0200
TZOFFSETTO:+0100
TZNAME:CET
DTSTART:20231029T010000
END:STANDARD
END:VTIMEZONE
BEGIN:VEVENT
DTSTART;TZID=Europe/Amsterdam:20230315T143000
DTEND;TZID=Europe/Amsterdam:20230315T143000
DTSTAMP:20260421T023429
CREATED:20230310T121159Z
LAST-MODIFIED:20230310T121527Z
UID:4439-1678890600-1678890600@www.seniorenplatformapeldoorn.nl
SUMMARY:KBO Ledenbijeenkomst – 15 maart
DESCRIPTION:KBO Ledenbijeenkomst WZC Ste. Marie\, Arnhemseweg 279\, 7333 AS Apeldoorn \n\nWoensdag 15 maart 2023\, 14:30 uur: Algemene Ledenvergadering met bingo toe \nHet bestuur zal weer zijn uiterste best doen om in korte tijd het gevoerde beleid in 2022 te verantwoorden en de plannen voor (de rest van) 2023 toe te lichten. \nEr is vorig jaar genoeg gebeurd. En\, als er tijd genoeg voor is: een bingo als afsluiting. \n\nKom a.u.b. op tijd en vergeet niet uw komst te melden\, om teleurstellingen te voorkomen(!): tel. 06 348 304 72 of e-mail: rien.bout80@g-mail.com.\nNog even dit: Voelt u zich niet goed\, blijf thuis.
URL:https://www.seniorenplatformapeldoorn.nl/event/kbo-ledenbijeenkomst-15-maart
LOCATION:WZC Ste Marie\, Arnhemseweg 279\, 7333 AS Apeldoorn
CATEGORIES:Activiteiten
END:VEVENT
END:VCALENDAR