BEGIN:VCALENDAR
VERSION:2.0
PRODID:-//Senioren Platform Apeldoorn - ECPv6.2.6//NONSGML v1.0//EN
CALSCALE:GREGORIAN
METHOD:PUBLISH
X-ORIGINAL-URL:https://www.seniorenplatformapeldoorn.nl
X-WR-CALDESC:Evenementen voor Senioren Platform Apeldoorn
REFRESH-INTERVAL;VALUE=DURATION:PT1H
X-Robots-Tag:noindex
X-PUBLISHED-TTL:PT1H
BEGIN:VTIMEZONE
TZID:Europe/Amsterdam
BEGIN:DAYLIGHT
TZOFFSETFROM:+0100
TZOFFSETTO:+0200
TZNAME:CEST
DTSTART:20230326T010000
END:DAYLIGHT
BEGIN:STANDARD
TZOFFSETFROM:+0200
TZOFFSETTO:+0100
TZNAME:CET
DTSTART:20231029T010000
END:STANDARD
END:VTIMEZONE
BEGIN:VEVENT
DTSTART;TZID=Europe/Amsterdam:20230312T161500
DTEND;TZID=Europe/Amsterdam:20230312T161500
DTSTAMP:20260421T023430
CREATED:20230310T125242Z
LAST-MODIFIED:20230310T125242Z
UID:4467-1678637700-1678637700@www.seniorenplatformapeldoorn.nl
SUMMARY:Gigant Muziekcafé: Solitary ZEBRA
DESCRIPTION:Solitary ZEBRA is een indie rock band uit het noorden van Nederland. ‘Catchy but edgy’\, de muziek die zij maken is goed in elkaar gezet\, met een donkere\, melancholische sound. \nMet meerdere singles in de top tien van de Nederlandse Indiecharts en optredens bij onder andere Eurosonic Noorderslag en poppodia als Hedon Zwolle en Vera Groningen is dit een must see voor elke indie fan! \n\nPrijs: Gratis toegang zonder ticket\nTijden: zo 12 maart 16:15\nLocatie: Café
URL:https://www.seniorenplatformapeldoorn.nl/event/gigant-muziekcafe-solitary-zebra
LOCATION:Gigant\, Nieuwstraat 377\, Apeldoorn\, 7311 BR\, Nederland
CATEGORIES:Activiteiten
END:VEVENT
END:VCALENDAR