BEGIN:VCALENDAR
VERSION:2.0
PRODID:-//Senioren Platform Apeldoorn - ECPv6.2.6//NONSGML v1.0//EN
CALSCALE:GREGORIAN
METHOD:PUBLISH
X-WR-CALNAME:Senioren Platform Apeldoorn
X-ORIGINAL-URL:https://www.seniorenplatformapeldoorn.nl
X-WR-CALDESC:Evenementen voor Senioren Platform Apeldoorn
REFRESH-INTERVAL;VALUE=DURATION:PT1H
X-Robots-Tag:noindex
X-PUBLISHED-TTL:PT1H
BEGIN:VTIMEZONE
TZID:Europe/Amsterdam
BEGIN:DAYLIGHT
TZOFFSETFROM:+0100
TZOFFSETTO:+0200
TZNAME:CEST
DTSTART:20230326T010000
END:DAYLIGHT
BEGIN:STANDARD
TZOFFSETFROM:+0200
TZOFFSETTO:+0100
TZNAME:CET
DTSTART:20231029T010000
END:STANDARD
END:VTIMEZONE
BEGIN:VEVENT
DTSTART;TZID=Europe/Amsterdam:20230223T190000
DTEND;TZID=Europe/Amsterdam:20230223T223000
DTSTAMP:20260421T035410
CREATED:20230220T121224Z
LAST-MODIFIED:20230220T124241Z
UID:4403-1677178800-1677191400@www.seniorenplatformapeldoorn.nl
SUMMARY:Verkiezingsbijeenkomst over Provinciale Staten Gelderland
DESCRIPTION:Aanmelden?  lokaal.bijv@vereniging.fnv.nl \nVoor meer informatie zie het Nieuws-item hierover
URL:https://www.seniorenplatformapeldoorn.nl/event/verkiezingsbijeenkomst-over-provinciale-staten-gelderland
LOCATION:Het Vierhuis\, Laan van Groot Schuylenburg 91\, Apeldoorn\, Nederland
CATEGORIES:Activiteiten
ORGANIZER;CN="FNV":MAILTO:lokaal.bijv@vereniging.fnv.nl
END:VEVENT
END:VCALENDAR