BEGIN:VCALENDAR
VERSION:2.0
PRODID:-//Senioren Platform Apeldoorn - ECPv6.2.6//NONSGML v1.0//EN
CALSCALE:GREGORIAN
METHOD:PUBLISH
X-ORIGINAL-URL:https://www.seniorenplatformapeldoorn.nl
X-WR-CALDESC:Evenementen voor Senioren Platform Apeldoorn
REFRESH-INTERVAL;VALUE=DURATION:PT1H
X-Robots-Tag:noindex
X-PUBLISHED-TTL:PT1H
BEGIN:VTIMEZONE
TZID:Europe/Amsterdam
BEGIN:DAYLIGHT
TZOFFSETFROM:+0100
TZOFFSETTO:+0200
TZNAME:CEST
DTSTART:20220327T010000
END:DAYLIGHT
BEGIN:STANDARD
TZOFFSETFROM:+0200
TZOFFSETTO:+0100
TZNAME:CET
DTSTART:20221030T010000
END:STANDARD
END:VTIMEZONE
BEGIN:VEVENT
DTSTART;TZID=Europe/Amsterdam:20220428T153000
DTEND;TZID=Europe/Amsterdam:20220428T163000
DTSTAMP:20260421T160512
CREATED:20220323T092826Z
LAST-MODIFIED:20220323T092826Z
UID:4183-1651159800-1651163400@www.seniorenplatformapeldoorn.nl
SUMMARY:‘Oud Geleerd Jong Gedaan‘ met het thema ‘Hoe was het leven 100 jaar geleden’ - Dag 4
DESCRIPTION:Thema: ‘Hoe was het leven 100 jaar geleden’\nStudent/Docent: Noah Terpstra\nData: 7 april\, 14 april\, 21 april en 28 april 2022\nTijdstip: 15.30 uur – 16.30 uur | Inloop vanaf 15.00 uur\nLocatie: De Drie Ranken\, Eglantierlaan 202 in de Maten te Apeldoorn\nKosten: € 25\,- voor de gehele reeks \nVoor meer informatie over de colleges van ‘Oud Geleerd Jong Gedaan‘ klik hier \nDeze reeks wordt gegeven door student-docent Noah Terpstra en bestaat uit vier deelcolleges. \n\nDonderdag 28 april 2022\nCollege 4 – Wat was er in het nieuws in de jaren ‘20’\nWat zijn krantenkoppen uit de jaren ’20? Welke ontwikkelingen of nieuwsberichten uit die tijd zijn er blijven hangen? We kijken naar een aantal nieuwsberichten en opvallende dingen die het tijdsbeeld kunnen schetsen. Voorbeelden zijn: Het onderzoeken van de mogelijkheid tot Daltononderwijs\, de Zuiderzeewerken en de bouw van de Afsluitdijk\, de Emaille-industrie wordt een trend\, de eerste trolleybussen rijden in Nederland\, de opvolging van Lenin in de Sovjet-Unie\, de Beurskrach in de VS\, de Vlootwet en de eerste olympische spelen die op de radio te volgen zijn. \nHierna besteden we aandacht aan het nu. Na vier colleges waarin we keken naar de geschiedenis\, is het ook goed om vooruit te kijken. Wat zijn volgens de bezoekers belangrijke thema’s waar de huidige jonge generatie meer aandacht aan moet besteden? Welke normen en waarden zijn aan het verdwijnen en welke tips hebben de bezoekers voor mijn generatie? \n\nBekijk hieronder de overige colleges uit deze reeks: \nCollege 1  – 7 april 2022\nPolitieke geschiedenis \nCollege 2  – 14 april 2022\nGeografische verschillen en Koningshuis \nCollege 3  – 21 april 2022\nCultuur en interesses in de jaren ‘20’ \n\nOpgave voor de college-reeks via de mail\n\nStuur een mail naar oudgeleerdjonggedaan@3ranken.nl\, met vermelding van naam\, adres\, telefoon-\nnummer en geboortedatum\nEen betaling van € 25 op rekeningnummer NL67 INGB 0008 5034 83 t.n.v. Stichting Huis van Ontmoeting o.v.v. OGJG\n€ 25 is voor het geheel van de 4 colleges. Uw betaling graag voor de start van het eerste college.\nBij over-intekening krijgen senioren (60+) voorrang boven niet-senioren.\n\nInformatie\n\nGert Nijmeijer 06-53783808\nOf kijk op: www.3ranken.nl/activiteiten/oudgeleerdjonggedaan.\nEn over de landelijke stichting OGJG: www.oudgeleerdjonggedaan.nl.
URL:https://www.seniorenplatformapeldoorn.nl/event/oud-geleerd-jong-gedaan-met-het-thema-hoe-was-het-leven-100-jaar-geleden-dag-4
LOCATION:De Drie Ranken\, Eglantierlaan 202\, Apeldoorn\, Gelderland\, 7329 AP\, Nederland
CATEGORIES:Activiteiten
END:VEVENT
END:VCALENDAR