BEGIN:VCALENDAR
VERSION:2.0
PRODID:-//Senioren Platform Apeldoorn - ECPv6.2.6//NONSGML v1.0//EN
CALSCALE:GREGORIAN
METHOD:PUBLISH
X-ORIGINAL-URL:https://www.seniorenplatformapeldoorn.nl
X-WR-CALDESC:Evenementen voor Senioren Platform Apeldoorn
REFRESH-INTERVAL;VALUE=DURATION:PT1H
X-Robots-Tag:noindex
X-PUBLISHED-TTL:PT1H
BEGIN:VTIMEZONE
TZID:Europe/Amsterdam
BEGIN:DAYLIGHT
TZOFFSETFROM:+0100
TZOFFSETTO:+0200
TZNAME:CEST
DTSTART:20220327T010000
END:DAYLIGHT
BEGIN:STANDARD
TZOFFSETFROM:+0200
TZOFFSETTO:+0100
TZNAME:CET
DTSTART:20221030T010000
END:STANDARD
END:VTIMEZONE
BEGIN:VEVENT
DTSTART;TZID=Europe/Amsterdam:20220423T100000
DTEND;TZID=Europe/Amsterdam:20220423T160000
DTSTAMP:20260421T172542
CREATED:20220419T123426Z
LAST-MODIFIED:20220419T124538Z
UID:4225-1650708000-1650729600@www.seniorenplatformapeldoorn.nl
SUMMARY:KOM in de Maten
DESCRIPTION:Ontmoet andere culturen: Muziek\, dans\, lekkere hapjes\, in gesprek\, verhalen en gedichten\, kinderactiviteit Zaterdag 23 april 2022 van 10-16.00 uur De Drie Ranken\, Eglantierlaan 202\, De Maten\, Apeldoorn. \nVoor het volledige programma bekijk hier de flyer
URL:https://www.seniorenplatformapeldoorn.nl/event/kom-in-de-maten
LOCATION:De Drie Ranken\, Eglantierlaan 202\, Apeldoorn\, Gelderland\, 7329 AP\, Nederland
CATEGORIES:Activiteiten
END:VEVENT
BEGIN:VEVENT
DTSTART;TZID=Europe/Amsterdam:20220423T170000
DTEND;TZID=Europe/Amsterdam:20220423T235900
DTSTAMP:20260421T172542
CREATED:20220419T113251Z
LAST-MODIFIED:20220419T113324Z
UID:4207-1650733200-1650758340@www.seniorenplatformapeldoorn.nl
SUMMARY:SCHATER Cabaretfestival
DESCRIPTION:Hét cabaretfestival van Apeldoorn\nExclusief consumpties \n\nOp zaterdag 23 april staat de humor centraal in Orpheus! SCHATER is hét cabaretfestival van Apeldoorn. Dit nieuwe jaarlijks terugkerende festival laat je alle kanten van comedy zien: van kleinkunst\, improvisatie\, stand-up tot cabaret. \nEr is cabaret-talent in overvloed\, met optredens van maar liefst 9 (!) opkomende cabarettalenten van het Cameretten Festival\, het Leids Cabaret Festival en het Amsterdam Kleinkunst Festival. Maar dat is nog niet alles! Er is (speciaal)bier\, lekker eten en livemuziek. Steven Kazàn en Jamie komen met een heerlijk droge magische show. We toveren onze foyer om tot comedy club en sluiten af met een hilarische silent disco. Ook kun je je eigen komische talent bijschaven met een comedytraining van Silvester Zwaneveld. \nOp SCHATER kun je gegarandeerd genieten van een avond lachen met je vrienden. Een avondvullend programma waarin jij zelf kiest hoe je ‘m invult. Humor\, hapjes en drankjes zijn er in ieder geval in overvloed! \n 
URL:https://www.seniorenplatformapeldoorn.nl/event/schater-cabaretfestival
LOCATION:Orpheus\, Churchillplein 1\, 7314 BZ Apeldoorn
CATEGORIES:Activiteiten
END:VEVENT
END:VCALENDAR