BEGIN:VCALENDAR
VERSION:2.0
PRODID:-//Senioren Platform Apeldoorn - ECPv6.2.6//NONSGML v1.0//EN
CALSCALE:GREGORIAN
METHOD:PUBLISH
X-ORIGINAL-URL:https://www.seniorenplatformapeldoorn.nl
X-WR-CALDESC:Evenementen voor Senioren Platform Apeldoorn
REFRESH-INTERVAL;VALUE=DURATION:PT1H
X-Robots-Tag:noindex
X-PUBLISHED-TTL:PT1H
BEGIN:VTIMEZONE
TZID:Europe/Amsterdam
BEGIN:DAYLIGHT
TZOFFSETFROM:+0100
TZOFFSETTO:+0200
TZNAME:CEST
DTSTART:20220327T010000
END:DAYLIGHT
BEGIN:STANDARD
TZOFFSETFROM:+0200
TZOFFSETTO:+0100
TZNAME:CET
DTSTART:20221030T010000
END:STANDARD
END:VTIMEZONE
BEGIN:VEVENT
DTSTART;TZID=Europe/Amsterdam:20220414T150000
DTEND;TZID=Europe/Amsterdam:20220414T150000
DTSTAMP:20260421T172542
CREATED:20211019T114835Z
LAST-MODIFIED:20211019T114903Z
UID:3756-1649948400-1649948400@www.seniorenplatformapeldoorn.nl
SUMMARY:Middagje-uit  in ORPHEUS
DESCRIPTION:Voorstelling: Het eiland van mijn vader  \nReserveer je tickets via: orpheus.nl/middagjeuit
URL:https://www.seniorenplatformapeldoorn.nl/event/middagje-uit-in-orpheus-5
LOCATION:Orpheus\, Churchillplein 1\, 7314 BZ Apeldoorn
CATEGORIES:Activiteiten
END:VEVENT
BEGIN:VEVENT
DTSTART;TZID=Europe/Amsterdam:20220414T153000
DTEND;TZID=Europe/Amsterdam:20220414T163000
DTSTAMP:20260421T172542
CREATED:20220323T092003Z
LAST-MODIFIED:20220323T092949Z
UID:4176-1649950200-1649953800@www.seniorenplatformapeldoorn.nl
SUMMARY:‘Oud Geleerd Jong Gedaan‘ met het thema ‘Hoe was het leven 100 jaar geleden’ - Dag 2
DESCRIPTION:Thema: ‘Hoe was het leven 100 jaar geleden’\nStudent/Docent: Noah Terpstra\nData: 7 april\, 14 april\, 21 april en 28 april 2022\nTijdstip: 15.30 uur – 16.30 uur | Inloop vanaf 15.00 uur\nLocatie: De Drie Ranken\, Eglantierlaan 202 in de Maten te Apeldoorn\nKosten: € 25\,- voor de gehele reeks \nVoor meer informatie over de colleges van ‘Oud Geleerd Jong Gedaan‘ klik hier \nDeze reeks wordt gegeven door student-docent Noah Terpstra en bestaat uit vier deelcolleges. \n\nDonderdag 14 april 2022\nCollege 2 – Geografische verschillen en Koningshuis\nWe gaan kijken naar ons Koningshuis in de jaren ’20. Hebben de bezoekers van het college nog herinneringen aan de tijd van Wilhelmina als jonge vorstin? Of misschien wel vanuit de tijd dat ze vaak op Paleis het Loo verbleef? Ook worden in het college een aantal goed bewaarde geheimen over het leven van de Oranjes op het Loo verklapt. We gaan kijken naar de tradities met het Koningshuis\, zoals Koninginnedag\, én we kijken naar een paar oude munten waar de oude vorstinnen op staan. In het tweede deel van het college kijken we aan de hand van kaarten hoe de wereld er toen bij lag. Er zijn nogal wat landsgrenzen verschoven de afgelopen honderd jaar. We kijken ook naar de rol van migratie zoals die honderd jaar geleden speelde. Toen waren Suriname en Nederlands-Indië koloniën van Nederland. Zijn er mensen die hier vandaan komen\, hebben ze verhalen hierover? Hebben de gasten bij het college ook herinneringen aan de eerste grootschalige migratiestromen uit Zuid-Europa? We besteden ook aandacht aan de bouw van Flevoland en de Afsluitdijk. Ook hierbij wordt een aantal oude munten getoond\, met daarbij de vraag aan de deelnemers van het college om te raden uit welke landen de munten komen. \n\nBekijk hieronder de overige colleges uit deze reeks: \nCollege 1  – 7 april 2022\nPolitieke geschiedenis \nCollege 3  – 21 april 2022\nCultuur en interesses in de jaren ‘20’ \nCollege 4  – 28 april 2022\nWat was er in het nieuws in de jaren ‘20’ \n\nOpgave voor de college-reeks via de mail\n\nStuur een mail naar oudgeleerdjonggedaan@3ranken.nl\, met vermelding van naam\, adres\, telefoon-\nnummer en geboortedatum\nEen betaling van € 25 op rekeningnummer NL67 INGB 0008 5034 83 t.n.v. Stichting Huis van Ontmoeting o.v.v. OGJG\n€ 25 is voor het geheel van de 4 colleges. Uw betaling graag voor de start van het eerste college.\nBij over-intekening krijgen senioren (60+) voorrang boven niet-senioren.\n\nInformatie\n\nGert Nijmeijer 06-53783808\nOf kijk op: www.3ranken.nl/activiteiten/oudgeleerdjonggedaan.\nEn over de landelijke stichting OGJG: www.oudgeleerdjonggedaan.nl.
URL:https://www.seniorenplatformapeldoorn.nl/event/oud-geleerd-jong-gedaan-met-het-thema-hoe-was-het-leven-100-jaar-geleden-dag-2
LOCATION:De Drie Ranken\, Eglantierlaan 202\, Apeldoorn\, Gelderland\, 7329 AP\, Nederland
CATEGORIES:Activiteiten
END:VEVENT
END:VCALENDAR