BEGIN:VCALENDAR
VERSION:2.0
PRODID:-//Senioren Platform Apeldoorn - ECPv6.2.6//NONSGML v1.0//EN
CALSCALE:GREGORIAN
METHOD:PUBLISH
X-WR-CALNAME:Senioren Platform Apeldoorn
X-ORIGINAL-URL:https://www.seniorenplatformapeldoorn.nl
X-WR-CALDESC:Evenementen voor Senioren Platform Apeldoorn
REFRESH-INTERVAL;VALUE=DURATION:PT1H
X-Robots-Tag:noindex
X-PUBLISHED-TTL:PT1H
BEGIN:VTIMEZONE
TZID:Europe/Amsterdam
BEGIN:DAYLIGHT
TZOFFSETFROM:+0100
TZOFFSETTO:+0200
TZNAME:CEST
DTSTART:20220327T010000
END:DAYLIGHT
BEGIN:STANDARD
TZOFFSETFROM:+0200
TZOFFSETTO:+0100
TZNAME:CET
DTSTART:20221030T010000
END:STANDARD
END:VTIMEZONE
BEGIN:VEVENT
DTSTART;TZID=Europe/Amsterdam:20220217T153000
DTEND;TZID=Europe/Amsterdam:20220217T163000
DTSTAMP:20260421T202945
CREATED:20211209T121842Z
LAST-MODIFIED:20211209T122417Z
UID:4157-1645111800-1645115400@www.seniorenplatformapeldoorn.nl
SUMMARY:‘Oud Geleerd Jong Gedaan‘ met het thema ‘De aarde uit balans; klimaatverandering’ - Dag 3
DESCRIPTION:Thema: ‘De aarde uit balans; klimaatverandering’\nStudent/Docent:Daan van Herpen\nData: 03 februari\, 10 februari\, 17 februari en 24 februari 2022\nTijdstip: 15.30 uur – 16.30 uur | Inloop vanaf 15.00 uur\nLocatie: De Drie Ranken\, Eglantierlaan 202 in de Maten te Apeldoorn\nKosten: € 20\,- voor de gehele reeks \nVoor meer informatie over de colleges van ‘Oud Geleerd Jong Gedaan‘ klik hier \nDeze reeks wordt gegeven door student-docent Daan van Herpen en bestaat uit vier deelcolleges. \n\nDonderdag 17 februari 2022\nCollege 3 – De klimaatzaak\nHet derde college\, ‘De Klimaatzaak’\, zal gaan over het wettelijk kader waarbinnen ons klimaatbeleid wordt vormgegeven. Het gaat hier om de afspraken in het klimaatakkoord van Parijs\, de Nederlandse invulling van die afspraken\, en de vraag of er wel genoeg wordt gedaan? Hierbij zullen ook de klimaatrechtzaken van Urgenda (richting de overheid) en Milieudefensie richting Shell) ter sprake komen. \n\nBekijk hieronder de overige colleges uit deze reeks: \nCollege 1  – 03 februari 2022\nDe aarde uit balans \nCollege 2  – 10 februari 2022\nHet klimaatdebat \nCollege 4  – 24 februari 2022\nDe klimaattransitie \n\nOpgave voor de college-reeks via de mail\n\nStuur een mail naar oudgeleerdjonggedaan@3ranken.nl\, met vermelding van naam\, adres\, telefoon-\nnummer en geboortedatum\nEen betaling van € 20 op rekeningnummer NL67 INGB 0008 5034 83 t.n.v. Stichting Huis van Ontmoeting o.v.v. OGJG\nDe aarde uit balans. € 20 is voor het geheel van de 4 colleges. Uw betaling graag voor de start van het eerste college.\nBij over-intekening krijgen senioren (60+) voorrang boven niet-senioren.\n\nInformatie\n\nGert Nijmeijer 06-53783808\nOf kijk op: www.3ranken.nl/activiteiten/oudgeleerdjonggedaan.\nEn over de landelijke stichting OGJG: www.oudgeleerdjonggedaan.nl.
URL:https://www.seniorenplatformapeldoorn.nl/event/oud-geleerd-jong-gedaan-met-het-thema-de-aarde-uit-balans-klimaatverandering-dag-3
LOCATION:De Drie Ranken\, Eglantierlaan 202\, Apeldoorn\, Gelderland\, 7329 AP\, Nederland
CATEGORIES:Activiteiten
END:VEVENT
END:VCALENDAR