BEGIN:VCALENDAR
VERSION:2.0
PRODID:-//Senioren Platform Apeldoorn - ECPv6.2.6//NONSGML v1.0//EN
CALSCALE:GREGORIAN
METHOD:PUBLISH
X-WR-CALNAME:Senioren Platform Apeldoorn
X-ORIGINAL-URL:https://www.seniorenplatformapeldoorn.nl
X-WR-CALDESC:Evenementen voor Senioren Platform Apeldoorn
REFRESH-INTERVAL;VALUE=DURATION:PT1H
X-Robots-Tag:noindex
X-PUBLISHED-TTL:PT1H
BEGIN:VTIMEZONE
TZID:Europe/Amsterdam
BEGIN:DAYLIGHT
TZOFFSETFROM:+0100
TZOFFSETTO:+0200
TZNAME:CEST
DTSTART:20220327T010000
END:DAYLIGHT
BEGIN:STANDARD
TZOFFSETFROM:+0200
TZOFFSETTO:+0100
TZNAME:CET
DTSTART:20221030T010000
END:STANDARD
END:VTIMEZONE
BEGIN:VEVENT
DTSTART;TZID=Europe/Amsterdam:20220216T143000
DTEND;TZID=Europe/Amsterdam:20220216T143000
DTSTAMP:20260421T203035
CREATED:20211202T121617Z
LAST-MODIFIED:20211202T122600Z
UID:4081-1645021800-1645021800@www.seniorenplatformapeldoorn.nl
SUMMARY:KBO Ledenbijeenkomst – 16 februari
DESCRIPTION:KBO Ledenbijeenkomst WZC Ste. Marie\, Arnhemseweg 279\, 7333 AS Apeldoorn \n\nWoensdag 16 februari 2022\, 14:30 uur: Sant’Egidio \nU weet wel\, de organisatie die in Apeldoorn de Kledingbank en nog veel andere nuttige en fijne zaken regelt voor de zwakkeren in de Apeldoornse samenleving. Een lezing door Ronald Dashorst over Sant’Egidio wereldwijd. \n\nKom a.u.b. op tijd en vergeet niet uw komst te melden\, om teleurstellingen te voorkomen(!): tel. 06 348 304 72 of e-mail: rien.bout80@g-mail.com.\nNog even op een rijtje: Voelt u zich niet goed\, blijf thuis. Heeft u een QR-code op uw smartphone of op papier\, neem die mee\, er kan om gevraagd worden!\n 
URL:https://www.seniorenplatformapeldoorn.nl/event/kbo-ledenbijeenkomst-16-februari
LOCATION:WZC Ste Marie\, Arnhemseweg 279\, 7333 AS Apeldoorn
CATEGORIES:Activiteiten
END:VEVENT
END:VCALENDAR