BEGIN:VCALENDAR
VERSION:2.0
PRODID:-//Senioren Platform Apeldoorn - ECPv6.2.6//NONSGML v1.0//EN
CALSCALE:GREGORIAN
METHOD:PUBLISH
X-ORIGINAL-URL:https://www.seniorenplatformapeldoorn.nl
X-WR-CALDESC:Evenementen voor Senioren Platform Apeldoorn
REFRESH-INTERVAL;VALUE=DURATION:PT1H
X-Robots-Tag:noindex
X-PUBLISHED-TTL:PT1H
BEGIN:VTIMEZONE
TZID:Europe/Amsterdam
BEGIN:DAYLIGHT
TZOFFSETFROM:+0100
TZOFFSETTO:+0200
TZNAME:CEST
DTSTART:20210328T010000
END:DAYLIGHT
BEGIN:STANDARD
TZOFFSETFROM:+0200
TZOFFSETTO:+0100
TZNAME:CET
DTSTART:20211031T010000
END:STANDARD
END:VTIMEZONE
BEGIN:VEVENT
DTSTART;TZID=Europe/Amsterdam:20211221T140000
DTEND;TZID=Europe/Amsterdam:20211221T140000
DTSTAMP:20260421T233539
CREATED:20210921T122958Z
LAST-MODIFIED:20211202T122307Z
UID:3537-1640095200-1640095200@www.seniorenplatformapeldoorn.nl
SUMMARY:KBO Ledenbijeenkomst – 21 december
DESCRIPTION:KBO Ledenbijeenkomst De Veste\, Fabianusstraat 4\, 7333 BM Apeldoorn \n\nDinsdag 21 december 2021\, 14:00 uur: Kerstviering 2021 \nAan het programma wordt nog steeds gewerkt\, dat komt door de steeds veranderende coronaregels. \n\nKom a.u.b. op tijd en vergeet niet uw komst te melden\, om teleurstellingen te voorkomen(!): tel. 06 348 304 72 of e-mail: rien.bout80@g-mail.com.\nNog even op een rijtje: Voelt u zich niet goed\, blijf thuis. Heeft u een QR-code op uw smartphone of op papier\, neem die mee\, er kan om gevraagd worden!\n 
URL:https://www.seniorenplatformapeldoorn.nl/event/kbo-ledenbijeenkomst-21-december
LOCATION:De Veste\, Fabianusstraat 4\, Apeldoorn\, 7333 BM
CATEGORIES:Activiteiten
END:VEVENT
END:VCALENDAR