BEGIN:VCALENDAR
VERSION:2.0
PRODID:-//Senioren Platform Apeldoorn - ECPv6.2.6//NONSGML v1.0//EN
CALSCALE:GREGORIAN
METHOD:PUBLISH
X-WR-CALNAME:Senioren Platform Apeldoorn
X-ORIGINAL-URL:https://www.seniorenplatformapeldoorn.nl
X-WR-CALDESC:Evenementen voor Senioren Platform Apeldoorn
REFRESH-INTERVAL;VALUE=DURATION:PT1H
X-Robots-Tag:noindex
X-PUBLISHED-TTL:PT1H
BEGIN:VTIMEZONE
TZID:Europe/Helsinki
BEGIN:DAYLIGHT
TZOFFSETFROM:+0200
TZOFFSETTO:+0300
TZNAME:EEST
DTSTART:20210328T010000
END:DAYLIGHT
BEGIN:STANDARD
TZOFFSETFROM:+0300
TZOFFSETTO:+0200
TZNAME:EET
DTSTART:20211031T010000
END:STANDARD
END:VTIMEZONE
BEGIN:VEVENT
DTSTART;TZID=Europe/Helsinki:20211216T143000
DTEND;TZID=Europe/Helsinki:20211216T143000
DTSTAMP:20260421T233420
CREATED:20211209T102432Z
LAST-MODIFIED:20211209T102432Z
UID:4115-1639665000-1639665000@www.seniorenplatformapeldoorn.nl
SUMMARY:Ledenbijeenkomst PCOB-Zuid - 16 december
DESCRIPTION:Datum:\n16 december 2021 \nTijd:\nAanvang 14:30 uur\, inloop om 14:00 uur \nLocatie:\n“De Hofstad”\, Hofveld 52\, 7331 KE Apeldoorn\n \n\ndonderdag 16 december 2021 Kerstvieren\nHet zijn wat onzekere tijden. Het is wel te hopen dat die middag door kan gaan. We vertrouwen erop dat het kan. Het wordt een middag om Kerstfeest\nte vieren. Het Vertel genootschap komt een mooi verhaal vertellen. We luisteren of zingen mee met kerstliederen. Natuurlijk is er wat lekkers bij de koffie/thee. Hartelijk welkom allen. \nU mag u buurvrouw/man ook meenemen. Een kennis of familielid is ook welkom. Kijk eens om u heen\, misschien is iemand eenzaam. Probeer ze mee te nemen. Iedereen is welkom. \nDe inloop is om half 2 en we beginnen om half 3. Tot 16 December! \nAls u vragen heeft\, bel gerust 5331180.\nJoke Kusters. \n\nSectie ZUID \nVoorzitter Mevr. Joke Kusters\nGraanhof 20\n7335 AV Apeldoorn\ntel. 055 – 533 11 80 \nDe middagen worden gehouden op de 3e donderdag van de maand\, inloop om 14.00 uur met koffie/thee. De dichtstbijzijnde bushalte is Aluminiumweg aan de Arnhemseweg op vijf minuten lopen van de Hofstad (bus RRReis C2).
URL:https://www.seniorenplatformapeldoorn.nl/event/ledenbijeenkomst-pcob-zuid-16-december
LOCATION:De Hofstad\, Hofveld 52\, Apeldoorn\, Gelderland\, 7331 KE\, Nederland
CATEGORIES:Activiteiten
END:VEVENT
END:VCALENDAR