BEGIN:VCALENDAR
VERSION:2.0
PRODID:-//Senioren Platform Apeldoorn - ECPv6.2.6//NONSGML v1.0//EN
CALSCALE:GREGORIAN
METHOD:PUBLISH
X-ORIGINAL-URL:https://www.seniorenplatformapeldoorn.nl
X-WR-CALDESC:Evenementen voor Senioren Platform Apeldoorn
REFRESH-INTERVAL;VALUE=DURATION:PT1H
X-Robots-Tag:noindex
X-PUBLISHED-TTL:PT1H
BEGIN:VTIMEZONE
TZID:Europe/Helsinki
BEGIN:DAYLIGHT
TZOFFSETFROM:+0200
TZOFFSETTO:+0300
TZNAME:EEST
DTSTART:20210328T010000
END:DAYLIGHT
BEGIN:STANDARD
TZOFFSETFROM:+0300
TZOFFSETTO:+0200
TZNAME:EET
DTSTART:20211031T010000
END:STANDARD
END:VTIMEZONE
BEGIN:VEVENT
DTSTART;TZID=Europe/Helsinki:20211215T143000
DTEND;TZID=Europe/Helsinki:20211215T163000
DTSTAMP:20260421T233557
CREATED:20211209T104027Z
LAST-MODIFIED:20211209T104548Z
UID:4120-1639578600-1639585800@www.seniorenplatformapeldoorn.nl
SUMMARY:Ledenbijeenkomst PCOB-Noord - 15 december
DESCRIPTION:Locatie: Het Kristal\, Distelvlinderlaan 200\, 7323 XB Apeldoorn \n\nWoensdag 15 december 2021 Kerstmiddag PCOB/KBO \nOp woensdag 15 december 2021 vieren we in het Kristal een mooie kerstmiddag van de PCOB/KBO. \nDominee Sjoerd Muller zal deze middag verzorgen. We starten de middag vanaf 14.00 uur met een kopje koffie/thee.en wat lekkers. We luisteren naar het kerstverhaal en zingen samen kerstliederen. \nDe middag wordt afgesloten rond de klok van 16.15 uur. \n\nIedereen wordt van harte uitgenodigd. Leden van de sectie Zuid\, De Veenkamp\, en KBO-leden hartelijk welkom! \nDe middagen worden gehouden op de 2e woensdag van de maand\, van 14.30 tot ca. 16.30 uur. \nDe dichtstbijzijnde bushalte is Citroenvlinder op één minuut lopen van Het Kristal (bus RRReis 2). \nVoorzitter Mevr. P.C.L.W. Lier\, Nijbroekseweg 103\, 7323 XC Apeldoorn\, tel 055-3671612
URL:https://www.seniorenplatformapeldoorn.nl/event/ledenbijeenkomst-pcob-noord-15-december
LOCATION:Het Kristal\, Distelvlinderlaan 200\, Apeldoorn - Zuidbroek
CATEGORIES:Activiteiten
END:VEVENT
END:VCALENDAR