BEGIN:VCALENDAR
VERSION:2.0
PRODID:-//Senioren Platform Apeldoorn - ECPv6.2.6//NONSGML v1.0//EN
CALSCALE:GREGORIAN
METHOD:PUBLISH
X-ORIGINAL-URL:https://www.seniorenplatformapeldoorn.nl
X-WR-CALDESC:Evenementen voor Senioren Platform Apeldoorn
REFRESH-INTERVAL;VALUE=DURATION:PT1H
X-Robots-Tag:noindex
X-PUBLISHED-TTL:PT1H
BEGIN:VTIMEZONE
TZID:Europe/Amsterdam
BEGIN:DAYLIGHT
TZOFFSETFROM:+0100
TZOFFSETTO:+0200
TZNAME:CEST
DTSTART:20210328T010000
END:DAYLIGHT
BEGIN:STANDARD
TZOFFSETFROM:+0200
TZOFFSETTO:+0100
TZNAME:CET
DTSTART:20211031T010000
END:STANDARD
END:VTIMEZONE
BEGIN:VEVENT
DTSTART;TZID=Europe/Amsterdam:20211020T143000
DTEND;TZID=Europe/Amsterdam:20211020T143000
DTSTAMP:20260423T115147
CREATED:20210921T120137Z
LAST-MODIFIED:20210921T122442Z
UID:3528-1634740200-1634740200@www.seniorenplatformapeldoorn.nl
SUMMARY:KBO Ledenbijeenkomst – 20 oktober
DESCRIPTION:KBO Ledenbijeenkomst Woon- en zorgcentrum Ste. Marie\, Arnhemseweg 279\, 7333 AS Apeldoorn \n\nWoensdag 20 oktober 2021\, 14:30 uur: Matrozenkoor Apeldoorn\nHet Matrozenkoor Apeldoorn komt een middag zingen. Ik weet zeker dat er deze middag goed meegezongen kan worden. Ze stellen wel als voorwaarde dat ze binnen mogen zingen\, maar dat snappen wij natuurlijk heel goed.
URL:https://www.seniorenplatformapeldoorn.nl/event/matrozenkoor-apeldoorn
LOCATION:Recreatiezaal Ste. Marie\, Recreatiezaal Ste. Marie\, Apeldoorn\, Arnhemseweg 279\, 7333 AS\, Nederland
CATEGORIES:Activiteiten
END:VEVENT
END:VCALENDAR