BEGIN:VCALENDAR
VERSION:2.0
PRODID:-//Senioren Platform Apeldoorn - ECPv6.2.6//NONSGML v1.0//EN
CALSCALE:GREGORIAN
METHOD:PUBLISH
X-ORIGINAL-URL:https://www.seniorenplatformapeldoorn.nl
X-WR-CALDESC:Evenementen voor Senioren Platform Apeldoorn
REFRESH-INTERVAL;VALUE=DURATION:PT1H
X-Robots-Tag:noindex
X-PUBLISHED-TTL:PT1H
BEGIN:VTIMEZONE
TZID:Europe/Amsterdam
BEGIN:DAYLIGHT
TZOFFSETFROM:+0100
TZOFFSETTO:+0200
TZNAME:CEST
DTSTART:20210328T010000
END:DAYLIGHT
BEGIN:STANDARD
TZOFFSETFROM:+0200
TZOFFSETTO:+0100
TZNAME:CET
DTSTART:20211031T010000
END:STANDARD
END:VTIMEZONE
BEGIN:VEVENT
DTSTART;VALUE=DATE:20211002
DTEND;VALUE=DATE:20211010
DTSTAMP:20260423T115147
CREATED:20210928T115604Z
LAST-MODIFIED:20210928T115604Z
UID:3635-1633132800-1633823999@www.seniorenplatformapeldoorn.nl
SUMMARY:Week van de Seniorensport Apeldoorn
DESCRIPTION:Van zaterdag 2 oktober t/m zaterdag 9 oktober wordt in Apeldoorn de Week van de Seniorensport georganiseerd.\nIn die week kunnen geïnteresseerden bij een groot aantal sportaanbieders proeflessen volgen. \nKijk op deze pagina voor een actueel overzicht van de aanbieders.
URL:https://www.seniorenplatformapeldoorn.nl/event/week-van-de-seniorensport-apeldoorn
CATEGORIES:Activiteiten
END:VEVENT
BEGIN:VEVENT
DTSTART;TZID=Europe/Amsterdam:20211002T100000
DTEND;TZID=Europe/Amsterdam:20211002T160000
DTSTAMP:20260423T115147
CREATED:20210928T115316Z
LAST-MODIFIED:20210928T115316Z
UID:3631-1633168800-1633190400@www.seniorenplatformapeldoorn.nl
SUMMARY:Seniorensportmarkt op Senioren Sportplein
DESCRIPTION:Van 10.00 – 16.00 uur bent u van harte welkom deel te nemen aan de verschillende sport- en beweegactiviteiten van de aanwezige aanbieders. Of kijk\, luister en laat u informeren.
URL:https://www.seniorenplatformapeldoorn.nl/event/seniorensportmarkt-op-senioren-sportplein
LOCATION:Parkeerplaats voor Aquacentrum Malkander\, Dubbelbeek\, Apeldoorn
CATEGORIES:Activiteiten
END:VEVENT
END:VCALENDAR