BEGIN:VCALENDAR
VERSION:2.0
PRODID:-//Senioren Platform Apeldoorn - ECPv6.2.6//NONSGML v1.0//EN
CALSCALE:GREGORIAN
METHOD:PUBLISH
X-WR-CALNAME:Senioren Platform Apeldoorn
X-ORIGINAL-URL:https://www.seniorenplatformapeldoorn.nl
X-WR-CALDESC:Evenementen voor Senioren Platform Apeldoorn
REFRESH-INTERVAL;VALUE=DURATION:PT1H
X-Robots-Tag:noindex
X-PUBLISHED-TTL:PT1H
BEGIN:VTIMEZONE
TZID:Europe/Helsinki
BEGIN:DAYLIGHT
TZOFFSETFROM:+0200
TZOFFSETTO:+0300
TZNAME:EEST
DTSTART:20210328T010000
END:DAYLIGHT
BEGIN:STANDARD
TZOFFSETFROM:+0300
TZOFFSETTO:+0200
TZNAME:EET
DTSTART:20211031T010000
END:STANDARD
END:VTIMEZONE
BEGIN:VEVENT
DTSTART;TZID=Europe/Helsinki:20210908T143000
DTEND;TZID=Europe/Helsinki:20210908T163000
DTSTAMP:20260423T131218
CREATED:20211123T102850Z
LAST-MODIFIED:20211123T103035Z
UID:4014-1631111400-1631118600@www.seniorenplatformapeldoorn.nl
SUMMARY:Ledenbijeenkomst PCOB-Noord - 8 september
DESCRIPTION:Locatie: Het Kristal\, Distelvlinderlaan 200\, 7323 XB Apeldoorn \n\nWoensdag 8 september\nPresentatie Natuurrijk Nederland door dhr. Maas van de Ruitenbeek. \nNederland heeft een aantal natuurgebieden zoals de Veluwe.\nOver de natuur in Nederland\, met foto’s\, geluiden en muziek. \n\nIedereen wordt van harte uitgenodigd. Leden van de sectie Zuid\, De Veenkamp\, en KBO-leden hartelijk welkom! \nDe middagen worden gehouden op de 2e woensdag van de maand\, \nvan 14.30 tot ca. 16.30 uur. \nDe dichtstbijzijnde bushalte is Citroenvlinder op één minuut lopen van Het Kristal (bus RRReis 2). \nVoorzitter Mevr. P.C.L.W. Lier\, Nijbroekseweg 103\, 7323 XC Apeldoorn\, tel 055-3671612
URL:https://www.seniorenplatformapeldoorn.nl/event/ledenbijeenkomst-pcob-noord-8-september
LOCATION:Het Kristal\, Distelvlinderlaan 200\, Apeldoorn - Zuidbroek
CATEGORIES:Activiteiten
END:VEVENT
END:VCALENDAR