BEGIN:VCALENDAR
VERSION:2.0
PRODID:-//Senioren Platform Apeldoorn - ECPv6.2.6//NONSGML v1.0//EN
CALSCALE:GREGORIAN
METHOD:PUBLISH
X-WR-CALNAME:Senioren Platform Apeldoorn
X-ORIGINAL-URL:https://www.seniorenplatformapeldoorn.nl
X-WR-CALDESC:Evenementen voor Senioren Platform Apeldoorn
REFRESH-INTERVAL;VALUE=DURATION:PT1H
X-Robots-Tag:noindex
X-PUBLISHED-TTL:PT1H
BEGIN:VTIMEZONE
TZID:Europe/Amsterdam
BEGIN:DAYLIGHT
TZOFFSETFROM:+0100
TZOFFSETTO:+0200
TZNAME:CEST
DTSTART:20200329T010000
END:DAYLIGHT
BEGIN:STANDARD
TZOFFSETFROM:+0200
TZOFFSETTO:+0100
TZNAME:CET
DTSTART:20201025T010000
END:STANDARD
END:VTIMEZONE
BEGIN:VEVENT
DTSTART;VALUE=DATE:20200917
DTEND;VALUE=DATE:20210101
DTSTAMP:20260425T142837
CREATED:20200917T105636Z
LAST-MODIFIED:20200917T105937Z
UID:3158-1600300800-1609459199@www.seniorenplatformapeldoorn.nl
SUMMARY:Alle KBO activiteiten zijn wegens de coronapandemie tot hun spijt uitgesteld tot volgend jaar 2021.
DESCRIPTION:
URL:https://www.seniorenplatformapeldoorn.nl/event/3158
CATEGORIES:Activiteiten
END:VEVENT
END:VCALENDAR