BEGIN:VCALENDAR
VERSION:2.0
PRODID:-//Senioren Platform Apeldoorn - ECPv6.2.6//NONSGML v1.0//EN
CALSCALE:GREGORIAN
METHOD:PUBLISH
X-WR-CALNAME:Senioren Platform Apeldoorn
X-ORIGINAL-URL:https://www.seniorenplatformapeldoorn.nl
X-WR-CALDESC:Evenementen voor Senioren Platform Apeldoorn
REFRESH-INTERVAL;VALUE=DURATION:PT1H
X-Robots-Tag:noindex
X-PUBLISHED-TTL:PT1H
BEGIN:VTIMEZONE
TZID:Europe/Amsterdam
BEGIN:DAYLIGHT
TZOFFSETFROM:+0100
TZOFFSETTO:+0200
TZNAME:CEST
DTSTART:20200329T010000
END:DAYLIGHT
BEGIN:STANDARD
TZOFFSETFROM:+0200
TZOFFSETTO:+0100
TZNAME:CET
DTSTART:20201025T010000
END:STANDARD
END:VTIMEZONE
BEGIN:VEVENT
DTSTART;VALUE=DATE:20200617
DTEND;VALUE=DATE:20200901
DTSTAMP:20260425T173219
CREATED:20200317T204153Z
LAST-MODIFIED:20200617T122537Z
UID:3039-1592352000-1598918399@www.seniorenplatformapeldoorn.nl
SUMMARY:Afgelaste bijeenkomsten i.v.m. corona
DESCRIPTION:Alle bijeenkomsten zijn wegens Corona tot nader order afgelast.
URL:https://www.seniorenplatformapeldoorn.nl/event/3039
CATEGORIES:Activiteiten
END:VEVENT
END:VCALENDAR