BEGIN:VCALENDAR
VERSION:2.0
PRODID:-//Senioren Platform Apeldoorn - ECPv6.2.6//NONSGML v1.0//EN
CALSCALE:GREGORIAN
METHOD:PUBLISH
X-ORIGINAL-URL:https://www.seniorenplatformapeldoorn.nl
X-WR-CALDESC:Evenementen voor Senioren Platform Apeldoorn
REFRESH-INTERVAL;VALUE=DURATION:PT1H
X-Robots-Tag:noindex
X-PUBLISHED-TTL:PT1H
BEGIN:VTIMEZONE
TZID:Europe/Helsinki
BEGIN:DAYLIGHT
TZOFFSETFROM:+0200
TZOFFSETTO:+0300
TZNAME:EEST
DTSTART:20200329T010000
END:DAYLIGHT
BEGIN:STANDARD
TZOFFSETFROM:+0300
TZOFFSETTO:+0200
TZNAME:EET
DTSTART:20201025T010000
END:STANDARD
END:VTIMEZONE
BEGIN:VEVENT
DTSTART;TZID=Europe/Helsinki:20200415T143000
DTEND;TZID=Europe/Helsinki:20200415T143000
DTSTAMP:20260425T230738
CREATED:20191010T110053Z
LAST-MODIFIED:20200305T135608Z
UID:2590-1586961000-1586961000@www.seniorenplatformapeldoorn.nl
SUMMARY:KBO Ledenbijeenkomst - 15 april
DESCRIPTION:KBO Ledenbijeenkomst Woon- en zorgcentrum Ste. Marie\, Arnhemseweg 279\, 7333 AS Apeldoorn \nWoensdag 15 april 2020\, 14:30 uur: Presentatie “De bevrijding van Apeldoorn“ \nDe Vereniging Oud Apeldoorn presenteert ons een lezing over de bevrijding van Apeldoorn in 1945 met foto’s en filmmateriaal.
URL:https://www.seniorenplatformapeldoorn.nl/event/kbo-ledenbijeenkomst-15-april
LOCATION:Recreatiezaal Ste. Marie\, Recreatiezaal Ste. Marie\, Apeldoorn\, Arnhemseweg 279\, 7333 AS\, Nederland
CATEGORIES:Activiteiten
END:VEVENT
END:VCALENDAR