BEGIN:VCALENDAR
VERSION:2.0
PRODID:-//Senioren Platform Apeldoorn - ECPv6.2.6//NONSGML v1.0//EN
CALSCALE:GREGORIAN
METHOD:PUBLISH
X-ORIGINAL-URL:https://www.seniorenplatformapeldoorn.nl
X-WR-CALDESC:Evenementen voor Senioren Platform Apeldoorn
REFRESH-INTERVAL;VALUE=DURATION:PT1H
X-Robots-Tag:noindex
X-PUBLISHED-TTL:PT1H
BEGIN:VTIMEZONE
TZID:Europe/Amsterdam
BEGIN:DAYLIGHT
TZOFFSETFROM:+0100
TZOFFSETTO:+0200
TZNAME:CEST
DTSTART:20230326T010000
END:DAYLIGHT
BEGIN:STANDARD
TZOFFSETFROM:+0200
TZOFFSETTO:+0100
TZNAME:CET
DTSTART:20231029T010000
END:STANDARD
END:VTIMEZONE
BEGIN:VEVENT
DTSTART;TZID=Europe/Amsterdam:20231113T140000
DTEND;TZID=Europe/Amsterdam:20231113T140000
DTSTAMP:20260420T142549
CREATED:20230926T080655Z
LAST-MODIFIED:20230926T080655Z
UID:5237-1699884000-1699884000@www.seniorenplatformapeldoorn.nl
SUMMARY:Gun u zelf een uitje: Don Quichot
DESCRIPTION:Voorstellingen\, die het Spa samen met Gigant u aanbiedt. “Gun u zelf een uitje”. \nVoorstellingen met een rechtstreekse verbinding met het Royal Opera House in Londen. \nKijk op internet: Royal Opera House Londen\n \n\nMaandag 13 november 2023 om 14:00 uur\nDon Quichot – ballet en dans \n\nReserveer bij Gigant 055 521 83 45 \nSenior? dan krijgt u 2 euro SPA –korting en kost een ticket 11 euro! \nMeer aanbiedingen? Kijk in “de Wijzer”\, maandblad van senioren vereniging Apeldoorn – agenda De Groene of op Seniorenplatform (SPA) internet site
URL:https://www.seniorenplatformapeldoorn.nl/event/gun-u-zelf-een-uitje-don-quichot
LOCATION:Gigant\, Nieuwstraat 377\, Apeldoorn\, 7311 BR\, Nederland
CATEGORIES:Activiteiten
END:VEVENT
END:VCALENDAR