BEGIN:VCALENDAR
VERSION:2.0
PRODID:-//Senioren Platform Apeldoorn - ECPv6.2.6//NONSGML v1.0//EN
CALSCALE:GREGORIAN
METHOD:PUBLISH
X-WR-CALNAME:Senioren Platform Apeldoorn
X-ORIGINAL-URL:https://www.seniorenplatformapeldoorn.nl
X-WR-CALDESC:Evenementen voor Senioren Platform Apeldoorn
REFRESH-INTERVAL;VALUE=DURATION:PT1H
X-Robots-Tag:noindex
X-PUBLISHED-TTL:PT1H
BEGIN:VTIMEZONE
TZID:Europe/Amsterdam
BEGIN:DAYLIGHT
TZOFFSETFROM:+0100
TZOFFSETTO:+0200
TZNAME:CEST
DTSTART:20230326T010000
END:DAYLIGHT
BEGIN:STANDARD
TZOFFSETFROM:+0200
TZOFFSETTO:+0100
TZNAME:CET
DTSTART:20231029T010000
END:STANDARD
END:VTIMEZONE
BEGIN:VEVENT
DTSTART;TZID=Europe/Amsterdam:20230709T140000
DTEND;TZID=Europe/Amsterdam:20230709T140000
DTSTAMP:20260420T194654
CREATED:20230622T111503Z
LAST-MODIFIED:20230622T111520Z
UID:4996-1688911200-1688911200@www.seniorenplatformapeldoorn.nl
SUMMARY:Oranjepark Zondagmiddagconcerten
DESCRIPTION:In de muziektent in het Oranjepark gratis luisteren naar muziek die aanspreekt. Klapstoeltje huren kost € 1\,00. Kom genieten van de opbloeiende natuur en de mooie muziek. \nDit jaar is de eerste editie op zondag 21 mei a.s. en de laatste is op zondag 10 september 2023. Er zijn twee optredens per middag\, één om 14.00 en een concert om 15.00 uur. \nhttps://www.uitinapeldoorn.nl/zondagmiddagconcerten
URL:https://www.seniorenplatformapeldoorn.nl/event/oranjepark-zondagmiddagconcerten-2
LOCATION:Muziektent Oranjepark\, Oranjepark\, Apeldoorn
CATEGORIES:Activiteiten
END:VEVENT
BEGIN:VEVENT
DTSTART;TZID=Europe/Amsterdam:20230713T090000
DTEND;TZID=Europe/Amsterdam:20230713T163000
DTSTAMP:20260420T194654
CREATED:20230622T112732Z
LAST-MODIFIED:20230622T112811Z
UID:5021-1689238800-1689265800@www.seniorenplatformapeldoorn.nl
SUMMARY:Antiek- en Curiosamarkt op het Marktplein
DESCRIPTION:De Antiek- en Curiosamarkt duurt van 09:00 tot 16:30 uur. Meer dan 200 kramen met een gevarieerd aanbod. Toegang is gratis.
URL:https://www.seniorenplatformapeldoorn.nl/event/antiek-en-curiosamarkt-op-het-marktplein
LOCATION:Marktplein\, Marktplein\, Apeldoorn
CATEGORIES:Activiteiten
END:VEVENT
BEGIN:VEVENT
DTSTART;TZID=Europe/Amsterdam:20230716T140000
DTEND;TZID=Europe/Amsterdam:20230716T140000
DTSTAMP:20260420T194654
CREATED:20230622T111601Z
LAST-MODIFIED:20230622T111601Z
UID:4998-1689516000-1689516000@www.seniorenplatformapeldoorn.nl
SUMMARY:Oranjepark Zondagmiddagconcerten
DESCRIPTION:In de muziektent in het Oranjepark gratis luisteren naar muziek die aanspreekt. Klapstoeltje huren kost € 1\,00. Kom genieten van de opbloeiende natuur en de mooie muziek. \nDit jaar is de eerste editie op zondag 21 mei a.s. en de laatste is op zondag 10 september 2023. Er zijn twee optredens per middag\, één om 14.00 en een concert om 15.00 uur. \nhttps://www.uitinapeldoorn.nl/zondagmiddagconcerten
URL:https://www.seniorenplatformapeldoorn.nl/event/oranjepark-zondagmiddagconcerten-3
LOCATION:Muziektent Oranjepark\, Oranjepark\, Apeldoorn
CATEGORIES:Activiteiten
END:VEVENT
BEGIN:VEVENT
DTSTART;TZID=Europe/Amsterdam:20230719T143000
DTEND;TZID=Europe/Amsterdam:20230719T143000
DTSTAMP:20260420T194654
CREATED:20230622T104606Z
LAST-MODIFIED:20230622T113542Z
UID:4987-1689777000-1689777000@www.seniorenplatformapeldoorn.nl
SUMMARY:KBO Ledenbijeenkomst – 19 juli
DESCRIPTION:KBO Ledenbijeenkomst WZC Ste. Marie\, Arnhemseweg 279\, 7333 AS Apeldoorn \n\nWoensdag 19 juli 2023\, 14:30 uur: Bingo \nDe zomerbingo’s\, iedereen veel geluk gewenst! \n\nMeestal op de derde woensdag van de maand om 14:30 uur. \n\nKom a.u.b. op tijd en vergeet niet uw komst te melden\, om teleurstellingen te voorkomen; tel. 06 348 304 72 of e-mail: rien.bout80@gmail.com
URL:https://www.seniorenplatformapeldoorn.nl/event/kbo-ledenbijeenkomst-19-juli
LOCATION:WZC Ste Marie\, Arnhemseweg 279\, 7333 AS Apeldoorn
CATEGORIES:Activiteiten
END:VEVENT
BEGIN:VEVENT
DTSTART;TZID=Europe/Amsterdam:20230723T140000
DTEND;TZID=Europe/Amsterdam:20230723T140000
DTSTAMP:20260420T194654
CREATED:20230622T111712Z
LAST-MODIFIED:20230622T111712Z
UID:5001-1690120800-1690120800@www.seniorenplatformapeldoorn.nl
SUMMARY:Oranjepark Zondagmiddagconcerten
DESCRIPTION:In de muziektent in het Oranjepark gratis luisteren naar muziek die aanspreekt. Klapstoeltje huren kost € 1\,00. Kom genieten van de opbloeiende natuur en de mooie muziek. \nDit jaar is de eerste editie op zondag 21 mei a.s. en de laatste is op zondag 10 september 2023. Er zijn twee optredens per middag\, één om 14.00 en een concert om 15.00 uur. \nhttps://www.uitinapeldoorn.nl/zondagmiddagconcerten
URL:https://www.seniorenplatformapeldoorn.nl/event/oranjepark-zondagmiddagconcerten-4
LOCATION:Muziektent Oranjepark\, Oranjepark\, Apeldoorn
CATEGORIES:Activiteiten
END:VEVENT
BEGIN:VEVENT
DTSTART;TZID=Europe/Amsterdam:20230727T090000
DTEND;TZID=Europe/Amsterdam:20230727T163000
DTSTAMP:20260420T194654
CREATED:20230622T113055Z
LAST-MODIFIED:20230622T113055Z
UID:5026-1690448400-1690475400@www.seniorenplatformapeldoorn.nl
SUMMARY:Antiek- en Curiosamarkt op het Marktplein
DESCRIPTION:De Antiek- en Curiosamarkt duurt van 09:00 tot 16:30 uur. Meer dan 200 kramen met een gevarieerd aanbod. Toegang is gratis.
URL:https://www.seniorenplatformapeldoorn.nl/event/antiek-en-curiosamarkt-op-het-marktplein-2
LOCATION:Marktplein\, Marktplein\, Apeldoorn
CATEGORIES:Activiteiten
END:VEVENT
BEGIN:VEVENT
DTSTART;TZID=Europe/Amsterdam:20230730T140000
DTEND;TZID=Europe/Amsterdam:20230730T140000
DTSTAMP:20260420T194654
CREATED:20230622T111810Z
LAST-MODIFIED:20230622T111810Z
UID:5003-1690725600-1690725600@www.seniorenplatformapeldoorn.nl
SUMMARY:Oranjepark Zondagmiddagconcerten
DESCRIPTION:In de muziektent in het Oranjepark gratis luisteren naar muziek die aanspreekt. Klapstoeltje huren kost € 1\,00. Kom genieten van de opbloeiende natuur en de mooie muziek. \nDit jaar is de eerste editie op zondag 21 mei a.s. en de laatste is op zondag 10 september 2023. Er zijn twee optredens per middag\, één om 14.00 en een concert om 15.00 uur. \nhttps://www.uitinapeldoorn.nl/zondagmiddagconcerten
URL:https://www.seniorenplatformapeldoorn.nl/event/oranjepark-zondagmiddagconcerten-5
LOCATION:Muziektent Oranjepark\, Oranjepark\, Apeldoorn
CATEGORIES:Activiteiten
END:VEVENT
END:VCALENDAR