BEGIN:VCALENDAR
VERSION:2.0
PRODID:-//Senioren Platform Apeldoorn - ECPv6.2.6//NONSGML v1.0//EN
CALSCALE:GREGORIAN
METHOD:PUBLISH
X-ORIGINAL-URL:https://www.seniorenplatformapeldoorn.nl
X-WR-CALDESC:Evenementen voor Senioren Platform Apeldoorn
REFRESH-INTERVAL;VALUE=DURATION:PT1H
X-Robots-Tag:noindex
X-PUBLISHED-TTL:PT1H
BEGIN:VTIMEZONE
TZID:Europe/Amsterdam
BEGIN:DAYLIGHT
TZOFFSETFROM:+0100
TZOFFSETTO:+0200
TZNAME:CEST
DTSTART:20230326T010000
END:DAYLIGHT
BEGIN:STANDARD
TZOFFSETFROM:+0200
TZOFFSETTO:+0100
TZNAME:CET
DTSTART:20231029T010000
END:STANDARD
END:VTIMEZONE
BEGIN:VEVENT
DTSTART;TZID=Europe/Amsterdam:20230401T204500
DTEND;TZID=Europe/Amsterdam:20230401T204500
DTSTAMP:20260420T235213
CREATED:20230310T122649Z
LAST-MODIFIED:20230310T122733Z
UID:4452-1680381900-1680381900@www.seniorenplatformapeldoorn.nl
SUMMARY:Rock City: The Life We Live
DESCRIPTION:Acteurs: Rudy Bennett\, Hans Vandenburg\, Joop Roelofs\, Peter Vink\, Nicko Christiansen\, Cesar Zuiderwijk\, Danny Vera\, Johan Derksen\, Frans Krassenburg. \nDuur: 91 minuten \nPremière: www.gigant.nl/film/rock-city-the-life-we-live/\nFilmtickets: Normaal € 11\,00 | Vriend € 8\,50
URL:https://www.seniorenplatformapeldoorn.nl/event/rock-city-the-life-we-live
LOCATION:Gigant\, Nieuwstraat 377\, Apeldoorn\, 7311 BR\, Nederland
CATEGORIES:Activiteiten
END:VEVENT
BEGIN:VEVENT
DTSTART;TZID=Europe/Amsterdam:20230402T150000
DTEND;TZID=Europe/Amsterdam:20230402T150000
DTSTAMP:20260420T235213
CREATED:20230103T130412Z
LAST-MODIFIED:20230103T133137Z
UID:4324-1680447600-1680447600@www.seniorenplatformapeldoorn.nl
SUMMARY:Middagje-uit in ORPHEUS: Musesi - Taboes
DESCRIPTION:Met veel enthousiasme en liefde voor theater én Apeldoorn is een groep betrokken Apeldoorners aan de slag gegaan om een mooi programma samen te stellen voor de oudere Apeldoorner. Professionele voorstellingen wisselen af met zelf georganiseerde activiteiten zoals een pubquiz of een middag vol dans en wereldmuziek. Samen een gezellige middag hebben is bij deze voorstellingen en activiteiten het belangrijkste. \n\nVoorstelling: Musesi – Taboes\nEen groep zeer enthousiaste zangers\, zangeressen en toneelspelers die\, onder muzikale leiding van Samantha Lensink en pianist Yaroslav Kolpakov\, het publiek komen vermaken met een eigen gemaakte choreografie over ” taboes”. Je zou denken dat er nog maar weinig taboes zijn\, maar niets blijkt minder waar. Dit wordt een vrolijke middag en waarschijnlijk een feest van herkenning. \n  \nReserveer je tickets via: https://www.orpheus.nl/voorstellingen/themas/156/Middagje_uitorpheus.nl/middagjeuit \n\nDe toegang is gratis\, maar vooraf reserveren is verstandig\, want er is maar een beperkt aantal plekken beschikbaar.\nVooraf reserveren voor deze gratis activiteit is verplicht!
URL:https://www.seniorenplatformapeldoorn.nl/event/middagje-uit-in-orpheus-musesi-taboes
LOCATION:Orpheus\, Churchillplein 1\, 7314 BZ Apeldoorn
CATEGORIES:Activiteiten
END:VEVENT
BEGIN:VEVENT
DTSTART;TZID=Europe/Amsterdam:20230404T080000
DTEND;TZID=Europe/Amsterdam:20230404T170000
DTSTAMP:20260420T235213
CREATED:20230404T132952Z
LAST-MODIFIED:20230404T132952Z
UID:4615-1680595200-1680627600@www.seniorenplatformapeldoorn.nl
SUMMARY:KBO Ledenbijeenkomst – 21 juni
DESCRIPTION:KBO Ledenbijeenkomst WZC Ste. Marie\, Arnhemseweg 279\, 7333 AS Apeldoorn \n\nWoensdag 21 juni 2023\, 14:30 uur: Nederlandse liedjes \nOok dit jaar hebben we Herman en Co kunnen boeken om ons een middag te laten genieten van bekende Nederlands talige liedjes en andere bekende meezingers. \n\nKom a.u.b. op tijd en vergeet niet uw komst te melden\, om teleurstellingen te voorkomen(!): tel. 06 348 304 72 of e-mail: rien.bout80@g-mail.com.\nNog even dit: Voelt u zich niet goed\, blijf thuis.
URL:https://www.seniorenplatformapeldoorn.nl/event/kbo-ledenbijeenkomst-21-juni
LOCATION:WZC Ste Marie\, Arnhemseweg 279\, 7333 AS Apeldoorn
CATEGORIES:Activiteiten
END:VEVENT
BEGIN:VEVENT
DTSTART;TZID=Europe/Amsterdam:20230406T153000
DTEND;TZID=Europe/Amsterdam:20230406T163000
DTSTAMP:20260420T235213
CREATED:20230327T121915Z
LAST-MODIFIED:20230327T134245Z
UID:4548-1680795000-1680798600@www.seniorenplatformapeldoorn.nl
SUMMARY:‘Oud Geleerd Jong Gedaan‘ met het thema ‘Politiek – in Nederland en internationaal’
DESCRIPTION:Thema: ‘Politiek – in Nederland en internationaal’\nStudent/Docent: Tim Masselink\nData: Donderdag 6\, 13\, 20 april en 4 mei 2023\nTijdstip: 15.30 uur – 16.30 uur | Inloop vanaf 15.00 uur\nLocatie: De Drie Ranken\, Eglantierlaan 202 in de Maten te Apeldoorn\nKosten: € 25\,- voor de gehele reeks \nVoor meer informatie over de colleges van ‘Oud Geleerd Jong Gedaan‘ klik hier \nDeze reeks wordt gegeven door student-docent Tim Masselink en bestaat uit vier deelcolleges. \nPolitiek is overal en iedereen heeft er mee te maken. Tim Masselink neemt u mee op reis door de wereld van de Nederlandse en internationale politiek. \n\nDonderdag 6 april 2023\nCollege 1 – Internationaal in relatie tot nationaal\nWelke internationale bestuurlijke organisaties zijn er? Wat doen deze organisaties? En welke invloed hebben zij op de dagelijkse gang van zaken in Nederland en de rest van de wereld? \n\nBekijk hieronder de overige colleges uit deze reeks: \nCollege 2  – 13 april 2023\nPrinsjesdag \nCollege 3  – 20 april 2023\nPublic Affairs \nCollege 4  – 4 mei 2023\nMedia \n\nOpgave voor de college-reeks via de mail\n\nStuur een mail naar oudgeleerdjonggedaan@3ranken.nl\, met vermelding van naam\, adres\, telefoon-\nnummer en geboortedatum\nEen betaling van € 25 op rekeningnummer NL67 INGB 0008 5034 83 t.n.v. Stichting Huis van Ontmoeting o.v.v. OGJG april 2023\n€ 25 is voor het geheel van de 4 colleges. Uw betaling graag voor de start van het eerste college.\nBij over-intekening krijgen senioren (60+) voorrang boven niet-senioren.\n\nInformatie\n\nGerrit van Daalen 06-20458925 of Gert Nijmeijer 06-53783808\nOf kijk op: www.3ranken.nl/ogjg.\nEn over de landelijke stichting OGJG: www.oudgeleerdjonggedaan.nl.
URL:https://www.seniorenplatformapeldoorn.nl/event/oud-geleerd-jong-gedaan-met-het-thema-politiek-in-nederland-en-internationaal
LOCATION:De Drie Ranken\, Eglantierlaan 202\, Apeldoorn\, Gelderland\, 7329 AP\, Nederland
CATEGORIES:Activiteiten
END:VEVENT
BEGIN:VEVENT
DTSTART;TZID=Europe/Amsterdam:20230409T080000
DTEND;TZID=Europe/Amsterdam:20230409T083000
DTSTAMP:20260420T235213
CREATED:20230404T133421Z
LAST-MODIFIED:20230404T133421Z
UID:4617-1681027200-1681029000@www.seniorenplatformapeldoorn.nl
SUMMARY:Interkerkelijke Paassamenzang
DESCRIPTION:Voor de 81ste keer een samenzang met het zingen van de bekende Paasliederen en een korte meditatie.
URL:https://www.seniorenplatformapeldoorn.nl/event/interkerkelijke-paassamenzang
LOCATION:Raadhuisplein\, Raadhuisplein\, Apeldoorn
CATEGORIES:Activiteiten
END:VEVENT
BEGIN:VEVENT
DTSTART;TZID=Europe/Amsterdam:20230413T153000
DTEND;TZID=Europe/Amsterdam:20230413T163000
DTSTAMP:20260420T235213
CREATED:20230327T132546Z
LAST-MODIFIED:20230327T134341Z
UID:4553-1681399800-1681403400@www.seniorenplatformapeldoorn.nl
SUMMARY:‘Oud Geleerd Jong Gedaan‘ met het thema ‘Politiek – in Nederland en internationaal’ - Dag 2
DESCRIPTION:Thema: ‘Politiek – in Nederland en internationaal’\nStudent/Docent: Tim Masselink\nData: Donderdag 6\, 13\, 20 april en 4 mei 2023\nTijdstip: 15.30 uur – 16.30 uur | Inloop vanaf 15.00 uur\nLocatie: De Drie Ranken\, Eglantierlaan 202 in de Maten te Apeldoorn\nKosten: € 25\,- voor de gehele reeks \nVoor meer informatie over de colleges van ‘Oud Geleerd Jong Gedaan‘ klik hier \nDeze reeks wordt gegeven door student-docent Tim Masselink en bestaat uit vier deelcolleges. \nPolitiek is overal en iedereen heeft er mee te maken. Tim Masselink neemt u mee op reis door de wereld van de Nederlandse en internationale politiek. \n\nDonderdag 13 april 2023\nCollege 2 – Prinsjesdag\nPrinsjesdag! Eén van de belangrijkste politieke tradities van ons land: Dé dag waarop het politieke jaar wordt geopend. Samen gaan we in gesprek over wat bijvoorbeeld uw plannen voor Nederland zouden zijn. Hoedjes\, de Troonrede\, koetsen en debatten; het komt allemaal aan bod. \n\nBekijk hieronder de overige colleges uit deze reeks: \nCollege 1 – 6 april 2023\nInternationaal in relatie tot nationaal \nCollege 3  – 20 april 2023\nPublic Affairs \nCollege 4  – 4 mei 2023\nMedia \n\nOpgave voor de college-reeks via de mail\n\nStuur een mail naar oudgeleerdjonggedaan@3ranken.nl\, met vermelding van naam\, adres\, telefoon-\nnummer en geboortedatum\nEen betaling van € 25 op rekeningnummer NL67 INGB 0008 5034 83 t.n.v. Stichting Huis van Ontmoeting o.v.v. OGJG april 2023\n€ 25 is voor het geheel van de 4 colleges. Uw betaling graag voor de start van het eerste college.\nBij over-intekening krijgen senioren (60+) voorrang boven niet-senioren.\n\nInformatie\n\nGerrit van Daalen 06-20458925 of Gert Nijmeijer 06-53783808\nOf kijk op: www.3ranken.nl/ogjg.\nEn over de landelijke stichting OGJG: www.oudgeleerdjonggedaan.nl.
URL:https://www.seniorenplatformapeldoorn.nl/event/oud-geleerd-jong-gedaan-met-het-thema-politiek-in-nederland-en-internationaal-dag-2
LOCATION:De Drie Ranken\, Eglantierlaan 202\, Apeldoorn\, Gelderland\, 7329 AP\, Nederland
CATEGORIES:Activiteiten
END:VEVENT
BEGIN:VEVENT
DTSTART;TZID=Europe/Amsterdam:20230415T200000
DTEND;TZID=Europe/Amsterdam:20230415T200000
DTSTAMP:20260420T235213
CREATED:20230404T134042Z
LAST-MODIFIED:20230404T134042Z
UID:4621-1681588800-1681588800@www.seniorenplatformapeldoorn.nl
SUMMARY:Toneel 'De erfenis van Tante Bella'
DESCRIPTION:Toneelvereniging S.O.V.V. uit Apeldoorn verzorgt deze uitvoering van een klucht geschreven door Henk Roede. De scènes spelen zich af in een winkelruimte. Allerlei soorten klanten met de daarbij behorende verwarringen. \nDe zaal open 19:30 uur. \nKaarten kosten € 7\,50 p.p. Deze zijn ruim beschikbaar aan de zaal. Alleen contant\, pinbetaling niet mogelijk! \nU bent van harte welkom!
URL:https://www.seniorenplatformapeldoorn.nl/event/toneel-de-erfenis-van-tante-bella
LOCATION:Jachtlust\, Jachtlustplein 7\, Twello\, 7391 BW
CATEGORIES:Activiteiten
END:VEVENT
BEGIN:VEVENT
DTSTART;TZID=Europe/Amsterdam:20230416T133000
DTEND;TZID=Europe/Amsterdam:20230416T133000
DTSTAMP:20260420T235213
CREATED:20230404T134345Z
LAST-MODIFIED:20230404T134345Z
UID:4626-1681651800-1681651800@www.seniorenplatformapeldoorn.nl
SUMMARY:Ballet 'Assepoester'
DESCRIPTION:Balletvoorstelling op scherm vanuit Royal Opera House in Londen. Het ballet van de choreograaf Ashton is na tien jaar weer terug met partituur van Prokofjev. Dans\, romantiek en betoverende prinsessen vullen de hele voorstelling. \nToegang € 12\,00 voor 65 plussers
URL:https://www.seniorenplatformapeldoorn.nl/event/ballet-assepoester
LOCATION:Gigant\, Nieuwstraat 377\, Apeldoorn\, 7311 BR\, Nederland
CATEGORIES:Activiteiten
END:VEVENT
BEGIN:VEVENT
DTSTART;TZID=Europe/Amsterdam:20230419T143000
DTEND;TZID=Europe/Amsterdam:20230419T143000
DTSTAMP:20260420T235213
CREATED:20230310T121507Z
LAST-MODIFIED:20230404T132600Z
UID:4442-1681914600-1681914600@www.seniorenplatformapeldoorn.nl
SUMMARY:KBO Ledenbijeenkomst – 19 april
DESCRIPTION:KBO Ledenbijeenkomst WZC Ste. Marie\, Arnhemseweg 279\, 7333 AS Apeldoorn \n\nWoensdag 19 april 2023\, 14:30 uur: Matrozenkoor! \nVandaag komt het Matrozenkoor Apeldoorn met een huiskamerbezetting voor ons optreden. \nHet is altijd de bedoeling van het koor dat de mensen voor wie zij optreden uit volle borst mee kunnen zingen\, het word vast weer een dolle boel. \n\nKom a.u.b. op tijd en vergeet niet uw komst te melden\, om teleurstellingen te voorkomen(!): tel. 06 348 304 72 of e-mail: rien.bout80@g-mail.com.\nNog even dit: Voelt u zich niet goed\, blijf thuis.
URL:https://www.seniorenplatformapeldoorn.nl/event/kbo-ledenbijeenkomst-19-april
LOCATION:WZC Ste Marie\, Arnhemseweg 279\, 7333 AS Apeldoorn
CATEGORIES:Activiteiten
END:VEVENT
BEGIN:VEVENT
DTSTART;TZID=Europe/Amsterdam:20230420T153000
DTEND;TZID=Europe/Amsterdam:20230420T163000
DTSTAMP:20260420T235213
CREATED:20230327T133019Z
LAST-MODIFIED:20230327T134422Z
UID:4560-1682004600-1682008200@www.seniorenplatformapeldoorn.nl
SUMMARY:‘Oud Geleerd Jong Gedaan‘ met het thema ‘Politiek – in Nederland en internationaal’ - Dag 3
DESCRIPTION:Thema: ‘Politiek – in Nederland en internationaal’\nStudent/Docent: Tim Masselink\nData: Donderdag 6\, 13\, 20 april en 4 mei 2023\nTijdstip: 15.30 uur – 16.30 uur | Inloop vanaf 15.00 uur\nLocatie: De Drie Ranken\, Eglantierlaan 202 in de Maten te Apeldoorn\nKosten: € 25\,- voor de gehele reeks \nVoor meer informatie over de colleges van ‘Oud Geleerd Jong Gedaan‘ klik hier \nDeze reeks wordt gegeven door student-docent Tim Masselink en bestaat uit vier deelcolleges. \nPolitiek is overal en iedereen heeft er mee te maken. Tim Masselink neemt u mee op reis door de wereld van de Nederlandse en internationale politiek. \n\nDonderdag 20 april 2023\nCollege 3 – Public Affairs\nAls derde staat het thema ‘’Public Affairs’’ op het programma. De lobbysector is een vaak onbekende\, maar cruciale speler als het gaat om beleidsvorming in Nederland. Zowel de vaderlandse\, als de buitenlandse lobbywereld wordt onder de loep genomen. Wat doen zij en wat is hun rol in de Nederlandse politiek? \n\nBekijk hieronder de overige colleges uit deze reeks: \nCollege 1 – 6 april 2023\nInternationaal in relatie tot nationaal \nCollege 2  – 13 april 2023\nPrinsjesdag \nCollege 4  – 4 mei 2023\nMedia \n\nOpgave voor de college-reeks via de mail\n\nStuur een mail naar oudgeleerdjonggedaan@3ranken.nl\, met vermelding van naam\, adres\, telefoon-\nnummer en geboortedatum\nEen betaling van € 25 op rekeningnummer NL67 INGB 0008 5034 83 t.n.v. Stichting Huis van Ontmoeting o.v.v. OGJG april 2023\n€ 25 is voor het geheel van de 4 colleges. Uw betaling graag voor de start van het eerste college.\nBij over-intekening krijgen senioren (60+) voorrang boven niet-senioren.\n\nInformatie\n\nGerrit van Daalen 06-20458925 of Gert Nijmeijer 06-53783808\nOf kijk op: www.3ranken.nl/ogjg.\nEn over de landelijke stichting OGJG: www.oudgeleerdjonggedaan.nl.
URL:https://www.seniorenplatformapeldoorn.nl/event/oud-geleerd-jong-gedaan-met-het-thema-politiek-in-nederland-en-internationaal-dag-3
LOCATION:De Drie Ranken\, Eglantierlaan 202\, Apeldoorn\, Gelderland\, 7329 AP\, Nederland
CATEGORIES:Activiteiten
END:VEVENT
BEGIN:VEVENT
DTSTART;VALUE=DATE:20230430
DTEND;VALUE=DATE:20230501
DTSTAMP:20260420T235213
CREATED:20230228T094220Z
LAST-MODIFIED:20230228T094547Z
UID:4435-1682812800-1682899199@www.seniorenplatformapeldoorn.nl
SUMMARY:Themazondag Kumpulan: Medan
DESCRIPTION:Sprekers: Mark Loderichs\, Frans Leidelmeijer\, Hasti Tarekat en Frank Okker.
URL:https://www.seniorenplatformapeldoorn.nl/event/themazondag-kumpulan-medan
LOCATION:Kumpulan Bronbeek\, Velperweg 147\, Arnhem\, 6824 MB\, Nederland
CATEGORIES:Activiteiten
END:VEVENT
END:VCALENDAR