BEGIN:VCALENDAR
VERSION:2.0
PRODID:-//Senioren Platform Apeldoorn - ECPv6.2.6//NONSGML v1.0//EN
CALSCALE:GREGORIAN
METHOD:PUBLISH
X-ORIGINAL-URL:https://www.seniorenplatformapeldoorn.nl
X-WR-CALDESC:Evenementen voor Senioren Platform Apeldoorn
REFRESH-INTERVAL;VALUE=DURATION:PT1H
X-Robots-Tag:noindex
X-PUBLISHED-TTL:PT1H
BEGIN:VTIMEZONE
TZID:Europe/Amsterdam
BEGIN:DAYLIGHT
TZOFFSETFROM:+0100
TZOFFSETTO:+0200
TZNAME:CEST
DTSTART:20230326T010000
END:DAYLIGHT
BEGIN:STANDARD
TZOFFSETFROM:+0200
TZOFFSETTO:+0100
TZNAME:CET
DTSTART:20231029T010000
END:STANDARD
END:VTIMEZONE
BEGIN:VEVENT
DTSTART;TZID=Europe/Amsterdam:20230121T150000
DTEND;TZID=Europe/Amsterdam:20230121T150000
DTSTAMP:20260421T035410
CREATED:20221223T152742Z
LAST-MODIFIED:20230103T132824Z
UID:4300-1674313200-1674313200@www.seniorenplatformapeldoorn.nl
SUMMARY:Middagje-uit in ORPHEUS: Nieuwjaarsconcert - Het Apeldoorns Popkoor
DESCRIPTION:Met veel enthousiasme en liefde voor theater én Apeldoorn is een groep betrokken Apeldoorners aan de slag gegaan om een mooi programma samen te stellen voor de oudere Apeldoorner. Professionele voorstellingen wisselen af met zelf georganiseerde activiteiten zoals een pubquiz of een middag vol dans en wereldmuziek. Samen een gezellige middag hebben is bij deze voorstellingen en activiteiten het belangrijkste. \n\nVoorstelling: Nieuwjaarsconcert – Het Apeldoorns Popkoor\nEen middag vol zang\, muziek en gedichten met als thema “een nieuw jaar”. Het Apeldoorns Popkoor onder leiding van Reitse Giesbers zingt vijfstemmig verschillende nummers van bekende en onbekende artiesten. Het geheel wordt afgewisseld door zelfgeschreven of geleende gedichten\, die worden voorgedragen door een aantal dichters en schrijvers\, waaronder Aad vd Waal\, Serdal Yilmaz\, Resi Tichelaar\, Desiree Ekke en onze huidige stadsdichter Herman Kattemölle. \n  \nReserveer je tickets via: https://www.orpheus.nl/voorstellingen/themas/156/Middagje_uitorpheus.nl/middagjeuit \n\nDe toegang is gratis\, maar vooraf reserveren is verstandig\, want er is maar een beperkt aantal plekken beschikbaar.\nVooraf reserveren voor deze gratis activiteit is verplicht!
URL:https://www.seniorenplatformapeldoorn.nl/event/middagje-uit-in-orpheus-nieuwjaarsconcert
LOCATION:Orpheus\, Churchillplein 1\, 7314 BZ Apeldoorn
CATEGORIES:Activiteiten
END:VEVENT
END:VCALENDAR