BEGIN:VCALENDAR
VERSION:2.0
PRODID:-//Senioren Platform Apeldoorn - ECPv6.2.6//NONSGML v1.0//EN
CALSCALE:GREGORIAN
METHOD:PUBLISH
X-WR-CALNAME:Senioren Platform Apeldoorn
X-ORIGINAL-URL:https://www.seniorenplatformapeldoorn.nl
X-WR-CALDESC:Evenementen voor Senioren Platform Apeldoorn
REFRESH-INTERVAL;VALUE=DURATION:PT1H
X-Robots-Tag:noindex
X-PUBLISHED-TTL:PT1H
BEGIN:VTIMEZONE
TZID:Europe/Amsterdam
BEGIN:DAYLIGHT
TZOFFSETFROM:+0100
TZOFFSETTO:+0200
TZNAME:CEST
DTSTART:20220327T010000
END:DAYLIGHT
BEGIN:STANDARD
TZOFFSETFROM:+0200
TZOFFSETTO:+0100
TZNAME:CET
DTSTART:20221030T010000
END:STANDARD
END:VTIMEZONE
BEGIN:VEVENT
DTSTART;TZID=Europe/Amsterdam:20220508T150000
DTEND;TZID=Europe/Amsterdam:20220508T150000
DTSTAMP:20260421T143908
CREATED:20211019T125211Z
LAST-MODIFIED:20211019T125211Z
UID:3758-1652022000-1652022000@www.seniorenplatformapeldoorn.nl
SUMMARY:Middagje-uit  in ORPHEUS
DESCRIPTION:Voorstelling: Fadocafé \nReserveer je tickets via: orpheus.nl/middagjeuit
URL:https://www.seniorenplatformapeldoorn.nl/event/middagje-uit-in-orpheus-6
LOCATION:Orpheus\, Churchillplein 1\, 7314 BZ Apeldoorn
CATEGORIES:Activiteiten
END:VEVENT
BEGIN:VEVENT
DTSTART;TZID=Europe/Amsterdam:20220519T193000
DTEND;TZID=Europe/Amsterdam:20220519T193000
DTSTAMP:20260421T143908
CREATED:20220419T122404Z
LAST-MODIFIED:20220419T122718Z
UID:4223-1652988600-1652988600@www.seniorenplatformapeldoorn.nl
SUMMARY:Ballet Het Zwanenmeer in Gigant
DESCRIPTION:Houdt u van ballet? Kom dan naar de uitvoering van Het Zwanenmeer rechtstreeks vanuit The Royal Ballet uit Londen. \nOp 19 mei kunnen senioren kennis maken tegen de gereduceerde prijs van € 12\,50. \nAls start is van de SpA soos “De Groene”. \nVanaf half acht is er koffie en kunt u samen genieten van een avondje uit.
URL:https://www.seniorenplatformapeldoorn.nl/event/ballet-het-zwanenmeer-in-gigant
LOCATION:Gigant\, Nieuwstraat 377\, Apeldoorn\, 7311 BR\, Nederland
CATEGORIES:Activiteiten
END:VEVENT
END:VCALENDAR