BEGIN:VCALENDAR
VERSION:2.0
PRODID:-//Senioren Platform Apeldoorn - ECPv6.2.6//NONSGML v1.0//EN
CALSCALE:GREGORIAN
METHOD:PUBLISH
X-ORIGINAL-URL:https://www.seniorenplatformapeldoorn.nl
X-WR-CALDESC:Evenementen voor Senioren Platform Apeldoorn
REFRESH-INTERVAL;VALUE=DURATION:PT1H
X-Robots-Tag:noindex
X-PUBLISHED-TTL:PT1H
BEGIN:VTIMEZONE
TZID:Europe/Amsterdam
BEGIN:DAYLIGHT
TZOFFSETFROM:+0100
TZOFFSETTO:+0200
TZNAME:CEST
DTSTART:20220327T010000
END:DAYLIGHT
BEGIN:STANDARD
TZOFFSETFROM:+0200
TZOFFSETTO:+0100
TZNAME:CET
DTSTART:20221030T010000
END:STANDARD
TZID:Europe/Helsinki
BEGIN:DAYLIGHT
TZOFFSETFROM:+0200
TZOFFSETTO:+0300
TZNAME:EEST
DTSTART:20220327T010000
END:DAYLIGHT
BEGIN:STANDARD
TZOFFSETFROM:+0300
TZOFFSETTO:+0200
TZNAME:EET
DTSTART:20221030T010000
END:STANDARD
END:VTIMEZONE
BEGIN:VEVENT
DTSTART;TZID=Europe/Amsterdam:20220108T150000
DTEND;TZID=Europe/Amsterdam:20220108T150000
DTSTAMP:20260421T203035
CREATED:20211019T114341Z
LAST-MODIFIED:20211019T114429Z
UID:3751-1641654000-1641654000@www.seniorenplatformapeldoorn.nl
SUMMARY:Middagje-uit  in ORPHEUS
DESCRIPTION:Voorstelling: Pub Quizzzz  \nReserveer je tickets via: orpheus.nl/middagjeuit
URL:https://www.seniorenplatformapeldoorn.nl/event/middagje-uit-in-orpheus-3
LOCATION:Orpheus\, Churchillplein 1\, 7314 BZ Apeldoorn
CATEGORIES:Activiteiten
END:VEVENT
BEGIN:VEVENT
DTSTART;TZID=Europe/Helsinki:20220112T143000
DTEND;TZID=Europe/Helsinki:20220112T163000
DTSTAMP:20260421T203035
CREATED:20211209T104233Z
LAST-MODIFIED:20211209T104439Z
UID:4122-1641997800-1642005000@www.seniorenplatformapeldoorn.nl
SUMMARY:Ledenbijeenkomst PCOB-Noord - 12 januari
DESCRIPTION:Locatie: Het Kristal\, Distelvlinderlaan 200\, 7323 XB Apeldoorn \n\nWoensdag 12 januari 2022 Nieuwjaarsmiddag PCOB/KBO\nOp woensdag 12 januari 2022 vieren we in het Kristal een nieuwjaarsmiddag van de PCOB/KBO. \nHet is een extra feestelijke middag om het nieuwe jaar in te luiden. Vanaf 14.00 uur is de ontvangst met koffie/thee en wat lekkers.\nWe hebben de heer W. Zondag uitgenodigd voor een lezing over betoverend Jordanië. Het hoogtepunt van de middag is de schitterende meer dan 2000 jaar oude\nrotsstad Petra. \nWe sluiten de middag af rond de klok van 16.15 uur. \n\nIedereen wordt van harte uitgenodigd. Leden van de sectie Zuid\, De Veenkamp\, en KBO-leden hartelijk welkom! \nDe middagen worden gehouden op de 2e woensdag van de maand\, van 14.30 tot ca. 16.30 uur. \nDe dichtstbijzijnde bushalte is Citroenvlinder op één minuut lopen van Het Kristal (bus RRReis 2). \nVoorzitter Mevr. P.C.L.W. Lier\, Nijbroekseweg 103\, 7323 XC Apeldoorn\, tel 055-3671612
URL:https://www.seniorenplatformapeldoorn.nl/event/ledenbijeenkomst-pcob-noord-12-januati
LOCATION:Het Kristal\, Distelvlinderlaan 200\, Apeldoorn - Zuidbroek
CATEGORIES:Activiteiten
END:VEVENT
BEGIN:VEVENT
DTSTART;TZID=Europe/Amsterdam:20220119T143000
DTEND;TZID=Europe/Amsterdam:20220119T143000
DTSTAMP:20260421T203035
CREATED:20211202T121335Z
LAST-MODIFIED:20211202T122420Z
UID:4077-1642602600-1642602600@www.seniorenplatformapeldoorn.nl
SUMMARY:KBO Ledenbijeenkomst – 19 januari
DESCRIPTION:KBO Ledenbijeenkomst WZC Ste. Marie\, Arnhemseweg 279\, 7333 AS Apeldoorn \n\nWoensdag 19 januari 2022\, 14:30 uur: Nieuwjaarsbijeenkomst 2022 \nEven bijpraten\, een hapje en een drankje\, even terugkijken op 2021 en vooruitkijken naar 2022\, dit alles met muzikale begeleiding door Ben Verhoeven. \n\nKom a.u.b. op tijd en vergeet niet uw komst te melden\, om teleurstellingen te voorkomen(!): tel. 06 348 304 72 of e-mail: rien.bout80@g-mail.com.\nNog even op een rijtje: Voelt u zich niet goed\, blijf thuis. Heeft u een QR-code op uw smartphone of op papier\, neem die mee\, er kan om gevraagd worden!\n 
URL:https://www.seniorenplatformapeldoorn.nl/event/kbo-ledenbijeenkomst-19-januari
LOCATION:WZC Ste Marie\, Arnhemseweg 279\, 7333 AS Apeldoorn
CATEGORIES:Activiteiten
END:VEVENT
BEGIN:VEVENT
DTSTART;TZID=Europe/Helsinki:20220120T143000
DTEND;TZID=Europe/Helsinki:20220120T143000
DTSTAMP:20260421T203035
CREATED:20211209T103157Z
LAST-MODIFIED:20211209T103157Z
UID:4117-1642689000-1642689000@www.seniorenplatformapeldoorn.nl
SUMMARY:Ledenbijeenkomst PCOB-Zuid - 20 januari
DESCRIPTION:Datum:\n20 januari 2022 \nTijd:\nAanvang 14:30 uur\, inloop om 14:00 uur \nLocatie:\n“De Hofstad”\, Hofveld 52\, 7331 KE Apeldoorn\n \n\ndonderdag 20 januari 2022 Themabijeenkomst ‘Positieve Gezondheid’\n \nPCOB APELDOORN organiseert op donderdag 20 januari 2022 de themabijeenkomst ‘Positieve Gezondheid’ in De Hofstad\, Hofveld 52 te Apeldoorn. \nZie nieuwsartikel over Positieve Gezondheid. \nDe aanvang is om 14.30 en vanaf 14.00 staat de koffie/thee klaar. \nEr geldt een maximum aantal deelnemers van 40 dus wie het eerst komt……… \nHebt u het artikel niet gelezen? Hoe dan ook\, beslist een aanrader. \nOpgave bij Joke Kusters\, 055- 5331180. \nAls de coronaregels t.z.t. nog gelden\, dient men een coronatoegangsbewijs te kunnen tonen.\nDat kan met je mobiel of op papier\nTe gast zijn Corrie Boom\, Anne-Marie Oostenrijk en Joke de Conisch\, ambassadeurs positieve gezondheid. Zij gaan ons meenemen in een concept van gezondheid\, dat door Machteld Huber onderzoekster en voormalig huisarts is geïntroduceerd. Dit werd al snel aangeduid als ‘Positieve Gezondheid’. \nGRIP op gezondheid met het zgn. SPINNENWEB op tafel \n\nSectie ZUID \nVoorzitter Mevr. Joke Kusters\nGraanhof 20\n7335 AV Apeldoorn\ntel. 055 – 533 11 80 \nDe middagen worden gehouden op de 3e donderdag van de maand\, inloop om 14.00 uur met koffie/thee. De dichtstbijzijnde bushalte is Aluminiumweg aan de Arnhemseweg op vijf minuten lopen van de Hofstad (bus RRReis C2).
URL:https://www.seniorenplatformapeldoorn.nl/event/ledenbijeenkomst-pcob-zuid-20-januari
LOCATION:De Hofstad\, Hofveld 52\, Apeldoorn\, Gelderland\, 7331 KE\, Nederland
CATEGORIES:Activiteiten
END:VEVENT
END:VCALENDAR