BEGIN:VCALENDAR
VERSION:2.0
PRODID:-//Senioren Platform Apeldoorn - ECPv6.2.6//NONSGML v1.0//EN
CALSCALE:GREGORIAN
METHOD:PUBLISH
X-WR-CALNAME:Senioren Platform Apeldoorn
X-ORIGINAL-URL:https://www.seniorenplatformapeldoorn.nl
X-WR-CALDESC:Evenementen voor Senioren Platform Apeldoorn
REFRESH-INTERVAL;VALUE=DURATION:PT1H
X-Robots-Tag:noindex
X-PUBLISHED-TTL:PT1H
BEGIN:VTIMEZONE
TZID:Europe/Helsinki
BEGIN:DAYLIGHT
TZOFFSETFROM:+0200
TZOFFSETTO:+0300
TZNAME:EEST
DTSTART:20200329T010000
END:DAYLIGHT
BEGIN:STANDARD
TZOFFSETFROM:+0300
TZOFFSETTO:+0200
TZNAME:EET
DTSTART:20201025T010000
END:STANDARD
END:VTIMEZONE
BEGIN:VEVENT
DTSTART;TZID=Europe/Helsinki:20200516T103000
DTEND;TZID=Europe/Helsinki:20200516T103000
DTSTAMP:20260425T201121
CREATED:20191010T110606Z
LAST-MODIFIED:20200305T140019Z
UID:2593-1589625000-1589625000@www.seniorenplatformapeldoorn.nl
SUMMARY:KBO Ledenbijeenkomst - 16 mei - Jubileumfeest
DESCRIPTION:KBO Ledenbijeenkomst Woon- en zorgcentrum Ste. Marie\, Arnhemseweg 279\, 7333 AS Apeldoorn \nZaterdag 16 mei 2020\, 10:30 uur: Viering 50 jarig jubileum \nOp deze dag vieren we dat onze afdeling 50 jaar bestaat. \n 
URL:https://www.seniorenplatformapeldoorn.nl/event/kbo-ledenbijeenkomst-16-mei
LOCATION:Recreatiezaal Ste. Marie\, Recreatiezaal Ste. Marie\, Apeldoorn\, Arnhemseweg 279\, 7333 AS\, Nederland
CATEGORIES:Activiteiten
END:VEVENT
END:VCALENDAR