BEGIN:VCALENDAR
VERSION:2.0
PRODID:-//Senioren Platform Apeldoorn - ECPv6.2.6//NONSGML v1.0//EN
CALSCALE:GREGORIAN
METHOD:PUBLISH
X-ORIGINAL-URL:https://www.seniorenplatformapeldoorn.nl
X-WR-CALDESC:Evenementen voor Senioren Platform Apeldoorn
REFRESH-INTERVAL;VALUE=DURATION:PT1H
X-Robots-Tag:noindex
X-PUBLISHED-TTL:PT1H
BEGIN:VTIMEZONE
TZID:Europe/Helsinki
BEGIN:DAYLIGHT
TZOFFSETFROM:+0200
TZOFFSETTO:+0300
TZNAME:EEST
DTSTART:20200329T010000
END:DAYLIGHT
BEGIN:STANDARD
TZOFFSETFROM:+0300
TZOFFSETTO:+0200
TZNAME:EET
DTSTART:20201025T010000
END:STANDARD
TZID:Europe/Amsterdam
BEGIN:DAYLIGHT
TZOFFSETFROM:+0100
TZOFFSETTO:+0200
TZNAME:CEST
DTSTART:20200329T010000
END:DAYLIGHT
BEGIN:STANDARD
TZOFFSETFROM:+0200
TZOFFSETTO:+0100
TZNAME:CET
DTSTART:20201025T010000
END:STANDARD
END:VTIMEZONE
BEGIN:VEVENT
DTSTART;TZID=Europe/Helsinki:20200311T143000
DTEND;TZID=Europe/Helsinki:20200311T163000
DTSTAMP:20260425T230635
CREATED:20200116T120406Z
LAST-MODIFIED:20200116T120451Z
UID:2944-1583937000-1583944200@www.seniorenplatformapeldoorn.nl
SUMMARY:Ledenbijeenkomst PCOB-Noord
DESCRIPTION:Locatie: Het Kristal\, Distelvlinderlaan 200\, 7323 XB Apeldoorn \nDs. P. van Duyvenbode. Inkijk beroep Legerpredikant. \nIedereen wordt van harte uitgenodigd. Leden van de sectie Noord\, De Veenkamp\, en KBO-leden hartelijk welkom! \nDe middagen worden gehouden op de 2e woensdag van de maand\, \nvan 14.30 tot ca. 16.30 uur Buslijn 8 en buslijn 9 stoppen voor de deur! \nVoorzitter Mevr. P.C.L.W. Lier\, Nijbroekseweg 103\, 7323 XC Apeldoorn\, tel 055-3671612
URL:https://www.seniorenplatformapeldoorn.nl/event/ledenbijeenkomst-pcob-noord-9
LOCATION:Het Kristal\, Distelvlinderlaan 200\, Apeldoorn - Zuidbroek
CATEGORIES:Activiteiten
END:VEVENT
BEGIN:VEVENT
DTSTART;TZID=Europe/Amsterdam:20200311T143000
DTEND;TZID=Europe/Amsterdam:20200311T163000
DTSTAMP:20260425T230635
CREATED:20200305T141343Z
LAST-MODIFIED:20200305T141516Z
UID:3005-1583937000-1583944200@www.seniorenplatformapeldoorn.nl
SUMMARY:Ledenbijeenkomst PCOB Apeldoorn
DESCRIPTION:Woensdag 11 maart 2020 is het weer zo ver. De jaarlijkse ledenvergadering. Het is in de Hofstadkerk (inloop om 14.00 uur). Het is altijd weer een hoogtepunt in het jaar. We kunnen elkaar ontmoeten en vertellen waar we het mee eens zijn of niet mee eens zijn. Het gaat over de gang van zaken in de PCOB landelijk en in ons eigen Apeldoorn. Het bestuur doet natuurlijk zijn best. We leggen verantwoording aan u af. maar het is altijd prettig als u mee denkt en mee praat. Vanaf begin maart kunt u de stukken inzien.
URL:https://www.seniorenplatformapeldoorn.nl/event/ledenbijeenkomst-pcob-apeldoorn
LOCATION:De Hofstad\, Hofveld 52\, Apeldoorn\, Gelderland\, 7331 KE\, Nederland
CATEGORIES:Activiteiten
END:VEVENT
BEGIN:VEVENT
DTSTART;TZID=Europe/Helsinki:20200318T143000
DTEND;TZID=Europe/Helsinki:20200318T143000
DTSTAMP:20260425T230635
CREATED:20191010T095540Z
LAST-MODIFIED:20200130T115643Z
UID:2588-1584541800-1584541800@www.seniorenplatformapeldoorn.nl
SUMMARY:KBO Ledenbijeenkomst - 18 maart
DESCRIPTION:KBO Ledenbijeenkomst Woon- en zorgcentrum Ste. Marie\, Arnhemseweg 279\, 7333 AS Apeldoorn \nWoensdag 18 maart 2020\, 14:30 uur: Algemene Vergadering 2020 \nDe jaarlijkse Algemene Vergadering waarop het bestuur van de afdeling verantwoording komt afleggen over het gevoerde beleid. \nAls er tijd over is spelen we nog een gratis rondje bingo. \n  \nOverige bijeenkomsten in 2020: \nwoensdagen 15-04\, (zaterdag) 16-05 (jubileumbijeenkomst)\, 17-06\, 15-07\, 19-08\, 16-09\, 21-10\, 18-11 en (dinsdag) 15-12
URL:https://www.seniorenplatformapeldoorn.nl/event/kbo-ledenbijeenkomst-18-maart
LOCATION:Recreatiezaal Ste. Marie\, Recreatiezaal Ste. Marie\, Apeldoorn\, Arnhemseweg 279\, 7333 AS\, Nederland
CATEGORIES:Activiteiten
END:VEVENT
BEGIN:VEVENT
DTSTART;TZID=Europe/Helsinki:20200319T143000
DTEND;TZID=Europe/Helsinki:20200319T163000
DTSTAMP:20260425T230635
CREATED:20200305T140821Z
LAST-MODIFIED:20200305T140905Z
UID:3002-1584628200-1584635400@www.seniorenplatformapeldoorn.nl
SUMMARY:Ledenbijeenkomst PCOB-Noord
DESCRIPTION:Locatie: Het Kristal\, Distelvlinderlaan 200\, 7323 XB Apeldoorn \nAls het klimaat een beetje meezit\, zitten we dan alweer in de lente. Zo voor Pasen wordt het een middag waarop we natuurlijk aandacht hebben voor de paastijd. Hoe? De invulling is nog niet helemaal rond\, maar het wordt vast heel goed. \nIedereen wordt van harte uitgenodigd. Leden van de sectie Noord\, De Veenkamp\, en KBO-leden hartelijk welkom! \nDe middagen worden gehouden op de 2e woensdag van de maand\, \nvan 14.30 tot ca. 16.30 uur Buslijn 8 en buslijn 9 stoppen voor de deur! \nVoorzitter Mevr. P.C.L.W. Lier\, Nijbroekseweg 103\, 7323 XC Apeldoorn\, tel 055-3671612
URL:https://www.seniorenplatformapeldoorn.nl/event/ledenbijeenkomst-pcob-noord-10
LOCATION:Het Kristal\, Distelvlinderlaan 200\, Apeldoorn - Zuidbroek
CATEGORIES:Activiteiten
END:VEVENT
BEGIN:VEVENT
DTSTART;TZID=Europe/Helsinki:20200322T110000
DTEND;TZID=Europe/Helsinki:20200322T150000
DTSTAMP:20260425T230635
CREATED:20191105T142136Z
LAST-MODIFIED:20191105T143223Z
UID:2694-1584874800-1584889200@www.seniorenplatformapeldoorn.nl
SUMMARY:Themazondag 22 maart ‘Wederopbouw en zorg’
DESCRIPTION:Voor 2019-2020 hebben de stichtingen Klein Bronbeek\, Indisch Erfgoed en Kumpulan in samenwerking met Museum Bronbeek als jaarthema ’75 jaar bevrijding’ gekozen. Op 19 januari vindt de tweede van deze reeks Themazondagen plaats. \nPlaats en tijd\nDe Themazondag ’75 jaar bevrijding: Herdenken’ vindt van 11.00 uur tot 15.00 uur plaats in het Reünie- en Congrescentrum Kumpulan op het Landgoed Bronbeek\, Velperweg 147\, 6824 MB Arnhem (n.b. navigatie: Velperweg 153). \nOntvangst vanaf 10.00 uur\, de zaal is open vanaf 10.30 uur. \nToegang \n\nDe toegangsprijs voor 1 dagprogramma is € 29\,50 p.p; een passe-partout voor 4 dagprogramma’s kost € 88\,50 p.p. Alles inclusief koffie of thee met spekkoek\, Indisch buffet en een consumptie.\nDe entreebewijzen zijn te bestellen  op de website van Reünie en Congrescentrum Kumpulan.\nEr zijn 250 plaatsen beschikbaar.\nVrij parkeren op eigen terrein.\nHonden zijn niet toegestaan.\n\nInformatie\nDeze Themazondag is de tweede in een reeks van vier. De andere Themazondagen zijn: \n\n10 november ‘Herdenken’\n19 januari 2020 ‘Herinneren’\n23 februari 2020 ‘Vooruitkijken’\n\nMeer weten?\nMail naar info@indischerfgoed.nl of bel 06 555 42 595
URL:https://www.seniorenplatformapeldoorn.nl/event/themazondag-22-maart-wederopbouw-en-zorg
LOCATION:Reünie- en Congrescentrum Kumpulan\, Velperweg 147\, Arnhem\, Gelderland\, 6824 MB\, Nederland
CATEGORIES:Activiteiten
END:VEVENT
END:VCALENDAR